BEGIN:VCALENDAR
VERSION:2.0
PRODID:-//Discover Helston - ECPv6.15.14//NONSGML v1.0//EN
CALSCALE:GREGORIAN
METHOD:PUBLISH
X-WR-CALNAME:Discover Helston
X-ORIGINAL-URL:https://discoverhelston.co.uk
X-WR-CALDESC:Events for Discover Helston
REFRESH-INTERVAL;VALUE=DURATION:PT1H
X-Robots-Tag:noindex
X-PUBLISHED-TTL:PT1H
BEGIN:VTIMEZONE
TZID:Europe/London
BEGIN:DAYLIGHT
TZOFFSETFROM:+0000
TZOFFSETTO:+0100
TZNAME:BST
DTSTART:20240331T010000
END:DAYLIGHT
BEGIN:STANDARD
TZOFFSETFROM:+0100
TZOFFSETTO:+0000
TZNAME:GMT
DTSTART:20241027T010000
END:STANDARD
BEGIN:DAYLIGHT
TZOFFSETFROM:+0000
TZOFFSETTO:+0100
TZNAME:BST
DTSTART:20250330T010000
END:DAYLIGHT
BEGIN:STANDARD
TZOFFSETFROM:+0100
TZOFFSETTO:+0000
TZNAME:GMT
DTSTART:20251026T010000
END:STANDARD
BEGIN:DAYLIGHT
TZOFFSETFROM:+0000
TZOFFSETTO:+0100
TZNAME:BST
DTSTART:20260329T010000
END:DAYLIGHT
BEGIN:STANDARD
TZOFFSETFROM:+0100
TZOFFSETTO:+0000
TZNAME:GMT
DTSTART:20261025T010000
END:STANDARD
BEGIN:DAYLIGHT
TZOFFSETFROM:+0000
TZOFFSETTO:+0100
TZNAME:BST
DTSTART:20270328T010000
END:DAYLIGHT
BEGIN:STANDARD
TZOFFSETFROM:+0100
TZOFFSETTO:+0000
TZNAME:GMT
DTSTART:20271031T010000
END:STANDARD
END:VTIMEZONE
BEGIN:VEVENT
DTSTART;TZID=Europe/London:20250920T100000
DTEND;TZID=Europe/London:20260430T150000
DTSTAMP:20260425T040019
CREATED:20250801T132116Z
LAST-MODIFIED:20250801T132116Z
UID:10007166-1758362400-1777561200@discoverhelston.co.uk
SUMMARY:Exhibition - Nature Recovery in Cornwall
DESCRIPTION:On a single day in summer\, one acre of wildflower meadow can contain 3 million flowers\, producing 1kg of nectar sugar. That’s enough to support nearly 96\,000 honeybees per day. \n97% of species-rich grassland has been lost in the UK since the 1930s\, with the remaining 3% mostly fragmented across the country\, leaving little room for wildlife to spread. \nExplore how the National Trust and partners are tackling these issues\, through the Coastal Meadows project and the Lizard Rarities Project\, in this photography exhibition.
URL:https://discoverhelston.co.uk/event/exhibition-nature-recovery-in-cornwall/
LOCATION:Penrose National Trust\, The Stables\, Penrose\, Helston\, TR130RD
CATEGORIES:Nature
ATTACH;FMTTYPE=image/png:https://discoverhelston.co.uk/wp-content/uploads/2025/08/Screenshot-2025-08-01-141716.png
ORGANIZER;CN="Penrose National Trust":MAILTO:lydia.allt@nationaltrust.org.uk
END:VEVENT
BEGIN:VEVENT
DTSTART;TZID=Europe/London:20251015T100000
DTEND;TZID=Europe/London:20251220T200000
DTSTAMP:20260425T040019
CREATED:20251002T095728Z
LAST-MODIFIED:20251002T095731Z
UID:10009230-1760522400-1766260800@discoverhelston.co.uk
SUMMARY:William Wegman and Man Ray
DESCRIPTION:This exhibition brings together a selection of William Wegman’s wryly comedic single-take video works\, shot between 1972 and 1973\, with two longer works. Man Ray\, Man Ray\, 1978\, is a parody documentary in which the narrative slides humorously between biographical details relating to the Dada and Surrealist artist Man Ray and those belonging to Man Ray\, Wegman’s camera-loving Weimaraner dog. Around the Park\, 2007\, offers a deadpan observation of a full cast of Weimaraners taking on the roles of regular park goers and workers in Madison Square Park\, New York.\nIn his short films\, Wegman guides the viewer to look intently at the simplest actions and objects\, making often humorous connections that invite us to think differently about things. It is therefore unsurprising that\, as well as gallery works\, Wegman also produced segments for the popular children’s television show Sesame Street and has produced a number of children’s books\, some of which will be available to enjoy at CAST Café during the exhibition. \n15 October to 20 December\nWednesday to Friday\, 10am – 4pm\nSaturday\, 10am – 8pm\nFree admission\, all welcome \nVideo still\, Man Ray\, Man Ray\, 1978\, 5:23 minutes © William Wegman. Image Courtesy of Electronic Arts Intermix (EAI)\, New York.
URL:https://discoverhelston.co.uk/event/william-wegman-and-man-ray/
LOCATION:CAST Cornwall\, Cornubian Arts & Science Trust\, 3 Penrose Road\, Helston Cornwall\, Helston\, TR13 8TP\, United Kingdom
CATEGORIES:Art & Film,Exhibition,Free
ATTACH;FMTTYPE=image/jpeg:https://discoverhelston.co.uk/wp-content/uploads/2025/10/1968d21f-a484-4916-6e00-f59efff296f6.jpg
ORGANIZER;CN="CAST Cornwall":MAILTO:info@castcornwall.art
END:VEVENT
BEGIN:VEVENT
DTSTART;TZID=Europe/London:20251121T210000
DTEND;TZID=Europe/London:20251121T230000
DTSTAMP:20260425T040019
CREATED:20251121T093239Z
LAST-MODIFIED:20251121T093239Z
UID:10009937-1763758800-1763766000@discoverhelston.co.uk
SUMMARY:Live Music - Tom Dale
DESCRIPTION:Join us for live music from Tom Dale!
URL:https://discoverhelston.co.uk/event/live-music-tom-dale/
LOCATION:The Blue Anchor\, 50 Coinagehall St\, Helston\, TR13 8EL
CATEGORIES:Nightlife & Music
ATTACH;FMTTYPE=image/jpeg:https://discoverhelston.co.uk/wp-content/uploads/2025/11/585414310_1434379718690471_4177050538182252219_n.jpg
END:VEVENT
BEGIN:VEVENT
DTSTART;TZID=Europe/London:20251121T213000
DTEND;TZID=Europe/London:20251121T233000
DTSTAMP:20260425T040019
CREATED:20251030T154920Z
LAST-MODIFIED:20251030T154920Z
UID:10009561-1763760600-1763767800@discoverhelston.co.uk
SUMMARY:Live Music - Grizzly Paw
DESCRIPTION:The 5 piece “good time” party band from Stithians let us make your next event a fantastic and rocking night to remember!
URL:https://discoverhelston.co.uk/event/live-music-grizzly-paw-2/
LOCATION:The Rodney Inn\, 31 Meneage St\, Helston\, TR13 8AA\, United Kingdom
CATEGORIES:Nightlife & Music
ATTACH;FMTTYPE=image/jpeg:https://discoverhelston.co.uk/wp-content/uploads/2025/10/292288974_539176207904994_5567248863194925850_n.jpg
END:VEVENT
END:VCALENDAR