BEGIN:VCALENDAR
VERSION:2.0
PRODID:-//Discover Helston - ECPv6.15.14//NONSGML v1.0//EN
CALSCALE:GREGORIAN
METHOD:PUBLISH
X-WR-CALNAME:Discover Helston
X-ORIGINAL-URL:https://discoverhelston.co.uk
X-WR-CALDESC:Events for Discover Helston
REFRESH-INTERVAL;VALUE=DURATION:PT1H
X-Robots-Tag:noindex
X-PUBLISHED-TTL:PT1H
BEGIN:VTIMEZONE
TZID:Europe/London
BEGIN:DAYLIGHT
TZOFFSETFROM:+0000
TZOFFSETTO:+0100
TZNAME:BST
DTSTART:20240331T010000
END:DAYLIGHT
BEGIN:STANDARD
TZOFFSETFROM:+0100
TZOFFSETTO:+0000
TZNAME:GMT
DTSTART:20241027T010000
END:STANDARD
BEGIN:DAYLIGHT
TZOFFSETFROM:+0000
TZOFFSETTO:+0100
TZNAME:BST
DTSTART:20250330T010000
END:DAYLIGHT
BEGIN:STANDARD
TZOFFSETFROM:+0100
TZOFFSETTO:+0000
TZNAME:GMT
DTSTART:20251026T010000
END:STANDARD
BEGIN:DAYLIGHT
TZOFFSETFROM:+0000
TZOFFSETTO:+0100
TZNAME:BST
DTSTART:20260329T010000
END:DAYLIGHT
BEGIN:STANDARD
TZOFFSETFROM:+0100
TZOFFSETTO:+0000
TZNAME:GMT
DTSTART:20261025T010000
END:STANDARD
BEGIN:DAYLIGHT
TZOFFSETFROM:+0000
TZOFFSETTO:+0100
TZNAME:BST
DTSTART:20270328T010000
END:DAYLIGHT
BEGIN:STANDARD
TZOFFSETFROM:+0100
TZOFFSETTO:+0000
TZNAME:GMT
DTSTART:20271031T010000
END:STANDARD
END:VTIMEZONE
BEGIN:VEVENT
DTSTART;TZID=Europe/London:20250920T100000
DTEND;TZID=Europe/London:20260430T150000
DTSTAMP:20260425T004841
CREATED:20250801T132116Z
LAST-MODIFIED:20250801T132116Z
UID:10007166-1758362400-1777561200@discoverhelston.co.uk
SUMMARY:Exhibition - Nature Recovery in Cornwall
DESCRIPTION:On a single day in summer\, one acre of wildflower meadow can contain 3 million flowers\, producing 1kg of nectar sugar. That’s enough to support nearly 96\,000 honeybees per day. \n97% of species-rich grassland has been lost in the UK since the 1930s\, with the remaining 3% mostly fragmented across the country\, leaving little room for wildlife to spread. \nExplore how the National Trust and partners are tackling these issues\, through the Coastal Meadows project and the Lizard Rarities Project\, in this photography exhibition.
URL:https://discoverhelston.co.uk/event/exhibition-nature-recovery-in-cornwall/
LOCATION:Penrose National Trust\, The Stables\, Penrose\, Helston\, TR130RD
CATEGORIES:Nature
ATTACH;FMTTYPE=image/png:https://discoverhelston.co.uk/wp-content/uploads/2025/08/Screenshot-2025-08-01-141716.png
ORGANIZER;CN="Penrose National Trust":MAILTO:lydia.allt@nationaltrust.org.uk
END:VEVENT
BEGIN:VEVENT
DTSTART;TZID=Europe/London:20251206T100000
DTEND;TZID=Europe/London:20260104T150000
DTSTAMP:20260425T004841
CREATED:20250801T132448Z
LAST-MODIFIED:20250801T132448Z
UID:10007167-1765015200-1767538800@discoverhelston.co.uk
SUMMARY:Christmas trail
DESCRIPTION:Join us at the Stables Cafe\, follow a trail around the Walled Garden to uncover the missing part of Santa’s address. Once you’ve completed the address fill in the Nature Pledges and post it to Father Christmas to be on ‘nature’s nice list’.
URL:https://discoverhelston.co.uk/event/christmas-trail/
LOCATION:Penrose National Trust\, The Stables\, Penrose\, Helston\, TR130RD
CATEGORIES:Christmas,Kids,Nature
ATTACH;FMTTYPE=image/png:https://discoverhelston.co.uk/wp-content/uploads/2025/08/Screenshot-2025-08-01-142132.png
ORGANIZER;CN="Penrose National Trust":MAILTO:lydia.allt@nationaltrust.org.uk
END:VEVENT
BEGIN:VEVENT
DTSTART;TZID=Europe/London:20251221T100000
DTEND;TZID=Europe/London:20251221T163000
DTSTAMP:20260425T004841
CREATED:20250929T221410Z
LAST-MODIFIED:20250929T230953Z
UID:10008099-1766311200-1766334600@discoverhelston.co.uk
SUMMARY:Santa Specials and Train of Lights
DESCRIPTION:Good news our Santa Specials and Train of Lights booking is now open. Further details will be available shortly via the website. You can BOOK NOW to reserve you space.
URL:https://discoverhelston.co.uk/event/santa-specials-and-train-of-lights/2025-12-21/
LOCATION:Helston Railway\, Trevarno Farm\, Helston\, TR130RY
CATEGORIES:Christmas
ATTACH;FMTTYPE=image/jpeg:https://discoverhelston.co.uk/wp-content/uploads/2025/09/553422667_1331304159002398_7688350613733895500_n.jpg
ORGANIZER;CN="Helston Railway":MAILTO:info@helstonrailway.co.uk
END:VEVENT
BEGIN:VEVENT
DTSTART;TZID=Europe/London:20251221T130000
DTEND;TZID=Europe/London:20251221T180000
DTSTAMP:20260425T004841
CREATED:20251219T143702Z
LAST-MODIFIED:20251219T143702Z
UID:10010184-1766322000-1766340000@discoverhelston.co.uk
SUMMARY:Riftbound Nexus Night
DESCRIPTION:Join us for our official Organised Play event! Turn up from 1pm to test your skills against opponents. Both competitive and casual players are welcome\, and we will do our best to place you in a pod accordingly. \n£2 to come and play\, and a Nexus promo pack for you!
URL:https://discoverhelston.co.uk/event/riftbound-nexus-night/
LOCATION:Roll the Dice\, 45 Meneage Street\, Helston\, TR13 8RB.\, United Kingdom
CATEGORIES:Community,Gaming
ATTACH;FMTTYPE=image/jpeg:https://discoverhelston.co.uk/wp-content/uploads/2025/12/588059114_122236751624150365_9184813681510972762_n-scaled.jpg
END:VEVENT
BEGIN:VEVENT
DTSTART;TZID=Europe/London:20251221T150000
DTEND;TZID=Europe/London:20251221T170000
DTSTAMP:20260425T004841
CREATED:20251126T212437Z
LAST-MODIFIED:20251126T212437Z
UID:10009947-1766329200-1766336400@discoverhelston.co.uk
SUMMARY:Family Prize Bingo
DESCRIPTION:Join us on Sunday 21st December for an afternoon full of festive fun and merriment! \n🕚 3.00pm – 5.00pm \n\n📍 The Old Cattle Market Community Hall and Hub\n Prize Bingo – from £1 a strip\n\n\n Raffle Tickets – from £1 each\n Christmas tunes\n Mulled wine\n Festive hot chocolate\n …and plenty more!\n\nIt’s the perfect way to keep the children entertained as we count down to the best day of the year.
URL:https://discoverhelston.co.uk/event/family-prize-bingo/
LOCATION:The Old Cattle Market\, Porthleven Rd\, Helston\, TR13 0SR
CATEGORIES:Community
ATTACH;FMTTYPE=image/jpeg:https://discoverhelston.co.uk/wp-content/uploads/2025/11/CHRISTMAS-BINGO-2025-Presentation-1.jpg
END:VEVENT
BEGIN:VEVENT
DTSTART;TZID=Europe/London:20251221T163000
DTEND;TZID=Europe/London:20251221T183000
DTSTAMP:20260425T004841
CREATED:20251217T151908Z
LAST-MODIFIED:20251217T151908Z
UID:10010173-1766334600-1766341800@discoverhelston.co.uk
SUMMARY:Blue Anchors Mummers - 'A Play at Christmas'
DESCRIPTION:‘A Play at Christmas’ – now in its 25th year!Please Note: This is NOT a Nativity play\, and should probably be avoided by children under 5 and people of a sensitive or artistic disposition. \n‘Mumming\, or Mummers\, plays used to be done all the over the country at Christmastime – they are a sort of Victorian pantomime using figures from history\, comic characters\, and dubious verse. This performance includes lines from plays done in Redruth\, Camborne\, Helford and Constantine from the mid-1800s\, which in turn include words from a play performed in the Truro area in 1780\, the earliest complete mumming text in the country. Various ad-libs will occur\, depending upon the mood of the cast.’Come along\, have a laugh and a pint\, and get in the festive spirit. Thank you to The Blue Anchor Mummers for continuing this tradition.
URL:https://discoverhelston.co.uk/event/blue-anchors-mummers-a-play-at-christmas/
LOCATION:The Blue Anchor\, 50 Coinagehall St\, Helston\, TR13 8EL
CATEGORIES:Christmas,Comedy,Community,Festive,Story Telling,Theatre
ATTACH;FMTTYPE=image/jpeg:https://discoverhelston.co.uk/wp-content/uploads/2025/12/598513920_1452231900238586_7250637652183168551_n.jpg
END:VEVENT
BEGIN:VEVENT
DTSTART;TZID=Europe/London:20251221T173000
DTEND;TZID=Europe/London:20251221T200000
DTSTAMP:20260425T004841
CREATED:20251121T090322Z
LAST-MODIFIED:20251121T090327Z
UID:10009930-1766338200-1766347200@discoverhelston.co.uk
SUMMARY:The Walk to Bethlehem
DESCRIPTION:Join us for an inspiring Walk-Through Nativity.\nFollow the lights\, meet the shepherds\, innkeepers and wise men\, and discover the stable.\nThere’ll be hot fruity Christmas drinks\, biscuits\, live animals\, and carol singing to enjoy.\nFree Entry. Please note this is an outdoor event
URL:https://discoverhelston.co.uk/event/the-walk-to-bethlehem/
LOCATION:Trerodeth\, Wheal Vor. TR13 9NW\, Trerodeth\, Wheal Vor\, Helston\, TR13 9NW
CATEGORIES:Christmas,Theatre
ATTACH;FMTTYPE=image/jpeg:https://discoverhelston.co.uk/wp-content/uploads/2025/11/wtb-web-scaled.jpg
ORGANIZER;CN="Kingsgate Church Helston":MAILTO:kghelston@gmail.com
END:VEVENT
BEGIN:VEVENT
DTSTART;TZID=Europe/London:20251221T180000
DTEND;TZID=Europe/London:20251221T203000
DTSTAMP:20260425T004841
CREATED:20251113T104150Z
LAST-MODIFIED:20251113T104150Z
UID:10009925-1766340000-1766349000@discoverhelston.co.uk
SUMMARY:Live Music - Bob Love
DESCRIPTION:Join us for live music from Bob Love\, Sunday 21st December\, 6pm! Get in the festive spirit.\nFree entry.
URL:https://discoverhelston.co.uk/event/live-music-bob-love-3/
LOCATION:The Blue Anchor\, 50 Coinagehall St\, Helston\, TR13 8EL
CATEGORIES:Nightlife & Music
ATTACH;FMTTYPE=image/jpeg:https://discoverhelston.co.uk/wp-content/uploads/2025/11/579971157_1425133082948468_6840117140840149982_n.jpg
END:VEVENT
BEGIN:VEVENT
DTSTART;TZID=Europe/London:20251221T180000
DTEND;TZID=Europe/London:20251221T210000
DTSTAMP:20260425T004841
CREATED:20251218T194424Z
LAST-MODIFIED:20251218T194424Z
UID:10010181-1766340000-1766350800@discoverhelston.co.uk
SUMMARY:Carols by Candle Light
DESCRIPTION:Did you miss our 100 Voice Choir?\nNot to worry! Join us this Sunday evening for our Carols by Candlelight service \nEnjoy inspiring messages and uplifting carols\, all by the gentle glow of candlelight.
URL:https://discoverhelston.co.uk/event/carols-by-candle-light/
LOCATION:Central Methodist Church\, 42 Coinagehall St\, Helston\, TR13 8EQ\, United Kingdom
CATEGORIES:Christmas,Festive,Nightlife & Music
ATTACH;FMTTYPE=image/jpeg:https://discoverhelston.co.uk/wp-content/uploads/2025/12/599449691_886739737366153_125316147178642878_n.jpg
END:VEVENT
END:VCALENDAR