BEGIN:VCALENDAR
VERSION:2.0
PRODID:-//Discover Helston - ECPv6.15.14//NONSGML v1.0//EN
CALSCALE:GREGORIAN
METHOD:PUBLISH
X-ORIGINAL-URL:https://discoverhelston.co.uk
X-WR-CALDESC:Events for Discover Helston
REFRESH-INTERVAL;VALUE=DURATION:PT1H
X-Robots-Tag:noindex
X-PUBLISHED-TTL:PT1H
BEGIN:VTIMEZONE
TZID:Europe/London
BEGIN:DAYLIGHT
TZOFFSETFROM:+0000
TZOFFSETTO:+0100
TZNAME:BST
DTSTART:20240331T010000
END:DAYLIGHT
BEGIN:STANDARD
TZOFFSETFROM:+0100
TZOFFSETTO:+0000
TZNAME:GMT
DTSTART:20241027T010000
END:STANDARD
BEGIN:DAYLIGHT
TZOFFSETFROM:+0000
TZOFFSETTO:+0100
TZNAME:BST
DTSTART:20250330T010000
END:DAYLIGHT
BEGIN:STANDARD
TZOFFSETFROM:+0100
TZOFFSETTO:+0000
TZNAME:GMT
DTSTART:20251026T010000
END:STANDARD
BEGIN:DAYLIGHT
TZOFFSETFROM:+0000
TZOFFSETTO:+0100
TZNAME:BST
DTSTART:20260329T010000
END:DAYLIGHT
BEGIN:STANDARD
TZOFFSETFROM:+0100
TZOFFSETTO:+0000
TZNAME:GMT
DTSTART:20261025T010000
END:STANDARD
BEGIN:DAYLIGHT
TZOFFSETFROM:+0000
TZOFFSETTO:+0100
TZNAME:BST
DTSTART:20270328T010000
END:DAYLIGHT
BEGIN:STANDARD
TZOFFSETFROM:+0100
TZOFFSETTO:+0000
TZNAME:GMT
DTSTART:20271031T010000
END:STANDARD
END:VTIMEZONE
BEGIN:VEVENT
DTSTART;TZID=Europe/London:20250920T100000
DTEND;TZID=Europe/London:20260430T150000
DTSTAMP:20260424T232137
CREATED:20250801T132116Z
LAST-MODIFIED:20250801T132116Z
UID:10007166-1758362400-1777561200@discoverhelston.co.uk
SUMMARY:Exhibition - Nature Recovery in Cornwall
DESCRIPTION:On a single day in summer\, one acre of wildflower meadow can contain 3 million flowers\, producing 1kg of nectar sugar. That’s enough to support nearly 96\,000 honeybees per day. \n97% of species-rich grassland has been lost in the UK since the 1930s\, with the remaining 3% mostly fragmented across the country\, leaving little room for wildlife to spread. \nExplore how the National Trust and partners are tackling these issues\, through the Coastal Meadows project and the Lizard Rarities Project\, in this photography exhibition.
URL:https://discoverhelston.co.uk/event/exhibition-nature-recovery-in-cornwall/
LOCATION:Penrose National Trust\, The Stables\, Penrose\, Helston\, TR130RD
CATEGORIES:Nature
ATTACH;FMTTYPE=image/png:https://discoverhelston.co.uk/wp-content/uploads/2025/08/Screenshot-2025-08-01-141716.png
ORGANIZER;CN="Penrose National Trust":MAILTO:lydia.allt@nationaltrust.org.uk
END:VEVENT
BEGIN:VEVENT
DTSTART;TZID=Europe/London:20251206T100000
DTEND;TZID=Europe/London:20260104T150000
DTSTAMP:20260424T232137
CREATED:20250801T132448Z
LAST-MODIFIED:20250801T132448Z
UID:10007167-1765015200-1767538800@discoverhelston.co.uk
SUMMARY:Christmas trail
DESCRIPTION:Join us at the Stables Cafe\, follow a trail around the Walled Garden to uncover the missing part of Santa’s address. Once you’ve completed the address fill in the Nature Pledges and post it to Father Christmas to be on ‘nature’s nice list’.
URL:https://discoverhelston.co.uk/event/christmas-trail/
LOCATION:Penrose National Trust\, The Stables\, Penrose\, Helston\, TR130RD
CATEGORIES:Christmas,Kids,Nature
ATTACH;FMTTYPE=image/png:https://discoverhelston.co.uk/wp-content/uploads/2025/08/Screenshot-2025-08-01-142132.png
ORGANIZER;CN="Penrose National Trust":MAILTO:lydia.allt@nationaltrust.org.uk
END:VEVENT
BEGIN:VEVENT
DTSTART;TZID=Europe/London:20251227T090000
DTEND;TZID=Europe/London:20251227T110000
DTSTAMP:20260424T232137
CREATED:20240530T101045Z
LAST-MODIFIED:20240827T095318Z
UID:10002997-1766826000-1766833200@discoverhelston.co.uk
SUMMARY:Wellbeing: Penrose Park Run
DESCRIPTION:What is Penrose parkrun?\n\n\n\nA free\, fun\, and friendly weekly 5k community event. Walk\, jog\, run\, volunteer or spectate – it’s up to you! \n\n\n\nWhen is it?\n\n\n\nEvery Saturday at 9:00am. \n\n\n\nWhere is it?\n\n\n\nThe event takes place at Penrose Estate\, Porthleven Road\, Helston\, Cornwall TR13 0RA. See Course page for more details. \n\n\n\nWhat does it cost to join in?\n\n\n\nNothing – it’s free! but please register before you first come along. Only ever register with parkrun once and don’t forget to bring a scannable copy of your barcode (request a reminder). If you forget it\, you won’t get a time. \n\n\n\nHow fast do I have to be?\n\n\n\nWe all take part for our own enjoyment. Please come along and join in whatever your pace! \n\n\n\nPenrose parkrun needs you!\n\n\n\nIt is entirely organised by volunteers – email penrose@parkrun.com to help. \n\n\n\nSafeguarding\n\n\n\nparkrun is committed to safeguarding and promoting the welfare of children and adults at risk. For our full safeguarding processes and policies\, including how to report a concern\, please see our Safeguarding Hub. \n\n\n\nWe’re friendly!\n\n\n\nEvery week we grab a post parkrun coffee in the lakeside Café – please come and join us!
URL:https://discoverhelston.co.uk/event/wellbeing-penrose-park-run/2025-12-27/
LOCATION:Penrose National Trust\, The Stables\, Penrose\, Helston\, TR130RD
ATTACH;FMTTYPE=image/jpeg:https://discoverhelston.co.uk/wp-content/uploads/2024/05/DSC06569-660x420-RnBFGA.tmp_.jpg
END:VEVENT
BEGIN:VEVENT
DTSTART;TZID=Europe/London:20251227T130000
DTEND;TZID=Europe/London:20251227T160000
DTSTAMP:20260424T232137
CREATED:20251219T144415Z
LAST-MODIFIED:20251219T144415Z
UID:10010186-1766840400-1766851200@discoverhelston.co.uk
SUMMARY:Under 15's Build and Battle Event
DESCRIPTION:Join us for our first Under 15s Pokemon event!This is extremely limited to just 10 players\, and for just £5 each player will get a Surging Sparks Build and Battle Deck\, along with their 3 boosters\, to compete against each other to see who will be the best trainer! \nThis is a casual/competitive event\, where the players don’t need to bring anything and can have any level of playing experience. \nThis is strictly for under 15s\, and age verification may be requested on arrival.
URL:https://discoverhelston.co.uk/event/under-15s-build-and-battle-event/
LOCATION:Roll the Dice\, 45 Meneage Street\, Helston\, TR13 8RB.\, United Kingdom
CATEGORIES:Gaming,Kids
ATTACH;FMTTYPE=image/jpeg:https://discoverhelston.co.uk/wp-content/uploads/2025/12/590509298_122236727012150365_6886599537462376898_n.jpg
END:VEVENT
BEGIN:VEVENT
DTSTART;TZID=Europe/London:20251227T180000
DTEND;TZID=Europe/London:20251227T200000
DTSTAMP:20260424T232137
CREATED:20251217T140004Z
LAST-MODIFIED:20251217T140004Z
UID:10010166-1766858400-1766865600@discoverhelston.co.uk
SUMMARY:Amplify DJ Taster Evening (13+)
DESCRIPTION:with Natalie from Amplify\nEver wanted to try DJing? Here’s your chance to get hands-on with the decks and learn from the pros. \nJoin Natalie from Amplify for a relaxed drop-in workshop where you can discover what it takes to mix tracks\, create transitions\, and get a crowd moving. Whether you’ve never touched a deck before or you’re already mixing at home\, this session is for you. \nFollowing the huge success of October’s half-term workshop\, this is an opportunity to experience the workshops again and register your interest to join a regular programme in the new year. \nWhat’s Happening: \n\n6:00 pm – 8:00pm: Drop-in DJ workshop with Natalie\nAll abilities welcome – complete beginners to experienced DJs\nShare your favourite tunes and get tips on mixing and technique\nTry out professional equipment in a supportive environment\nHear what’s possible and get inspired by meeting students who’ve been through the programme\n\nNo pressure\, no judgement – just come along\, have a go\, share your music taste\, and see if DJing is for you. \nDrop in anytime during the workshop (6-8pm) \nThis workshop is FREE
URL:https://discoverhelston.co.uk/event/amplify-dj-taster-evening-13-2/
LOCATION:The Basement\, Helston Gateway\, The Parade\, Helston\,\, Cornwall\, TR13 8RT\, United Kingdom
CATEGORIES:Free,Nightlife & Music,Teen
ATTACH;FMTTYPE=image/jpeg:https://discoverhelston.co.uk/wp-content/uploads/2025/12/Untitled-design-5-1.jpg
END:VEVENT
BEGIN:VEVENT
DTSTART;TZID=Europe/London:20251227T193000
DTEND;TZID=Europe/London:20251227T223000
DTSTAMP:20260424T232137
CREATED:20251030T190741Z
LAST-MODIFIED:20251211T114514Z
UID:10009588-1766863800-1766874600@discoverhelston.co.uk
SUMMARY:Godolphin Club Bingo!
DESCRIPTION:Eyes down! Dabbers out! \n7:30pm start\, 8 games for £6.00 \nNon Members welcome.
URL:https://discoverhelston.co.uk/event/godolphin-club-bingo/2025-12-27/
LOCATION:The Godolphin Club\, Wendron St\, Helston\, TR13 8PS\, United Kingdom
CATEGORIES:Nightlife & Music
ATTACH;FMTTYPE=image/png:https://discoverhelston.co.uk/wp-content/uploads/2025/10/Pink-and-White-Playful-Lets-PlayBingo-Game-Presentation-Facebook-Post.png
END:VEVENT
END:VCALENDAR