BEGIN:VCALENDAR
VERSION:2.0
PRODID:-//Discover Helston - ECPv6.15.14//NONSGML v1.0//EN
CALSCALE:GREGORIAN
METHOD:PUBLISH
X-WR-CALNAME:Discover Helston
X-ORIGINAL-URL:https://discoverhelston.co.uk
X-WR-CALDESC:Events for Discover Helston
REFRESH-INTERVAL;VALUE=DURATION:PT1H
X-Robots-Tag:noindex
X-PUBLISHED-TTL:PT1H
BEGIN:VTIMEZONE
TZID:Europe/London
BEGIN:DAYLIGHT
TZOFFSETFROM:+0000
TZOFFSETTO:+0100
TZNAME:BST
DTSTART:20240331T010000
END:DAYLIGHT
BEGIN:STANDARD
TZOFFSETFROM:+0100
TZOFFSETTO:+0000
TZNAME:GMT
DTSTART:20241027T010000
END:STANDARD
BEGIN:DAYLIGHT
TZOFFSETFROM:+0000
TZOFFSETTO:+0100
TZNAME:BST
DTSTART:20250330T010000
END:DAYLIGHT
BEGIN:STANDARD
TZOFFSETFROM:+0100
TZOFFSETTO:+0000
TZNAME:GMT
DTSTART:20251026T010000
END:STANDARD
BEGIN:DAYLIGHT
TZOFFSETFROM:+0000
TZOFFSETTO:+0100
TZNAME:BST
DTSTART:20260329T010000
END:DAYLIGHT
BEGIN:STANDARD
TZOFFSETFROM:+0100
TZOFFSETTO:+0000
TZNAME:GMT
DTSTART:20261025T010000
END:STANDARD
BEGIN:DAYLIGHT
TZOFFSETFROM:+0000
TZOFFSETTO:+0100
TZNAME:BST
DTSTART:20270328T010000
END:DAYLIGHT
BEGIN:STANDARD
TZOFFSETFROM:+0100
TZOFFSETTO:+0000
TZNAME:GMT
DTSTART:20271031T010000
END:STANDARD
END:VTIMEZONE
BEGIN:VEVENT
DTSTART;TZID=Europe/London:20250920T100000
DTEND;TZID=Europe/London:20260430T150000
DTSTAMP:20260425T004758
CREATED:20250801T132116Z
LAST-MODIFIED:20250801T132116Z
UID:10007166-1758362400-1777561200@discoverhelston.co.uk
SUMMARY:Exhibition - Nature Recovery in Cornwall
DESCRIPTION:On a single day in summer\, one acre of wildflower meadow can contain 3 million flowers\, producing 1kg of nectar sugar. That’s enough to support nearly 96\,000 honeybees per day. \n97% of species-rich grassland has been lost in the UK since the 1930s\, with the remaining 3% mostly fragmented across the country\, leaving little room for wildlife to spread. \nExplore how the National Trust and partners are tackling these issues\, through the Coastal Meadows project and the Lizard Rarities Project\, in this photography exhibition.
URL:https://discoverhelston.co.uk/event/exhibition-nature-recovery-in-cornwall/
LOCATION:Penrose National Trust\, The Stables\, Penrose\, Helston\, TR130RD
CATEGORIES:Nature
ATTACH;FMTTYPE=image/png:https://discoverhelston.co.uk/wp-content/uploads/2025/08/Screenshot-2025-08-01-141716.png
ORGANIZER;CN="Penrose National Trust":MAILTO:lydia.allt@nationaltrust.org.uk
END:VEVENT
BEGIN:VEVENT
DTSTART;TZID=Europe/London:20251206T100000
DTEND;TZID=Europe/London:20260104T150000
DTSTAMP:20260425T004758
CREATED:20250801T132448Z
LAST-MODIFIED:20250801T132448Z
UID:10007167-1765015200-1767538800@discoverhelston.co.uk
SUMMARY:Christmas trail
DESCRIPTION:Join us at the Stables Cafe\, follow a trail around the Walled Garden to uncover the missing part of Santa’s address. Once you’ve completed the address fill in the Nature Pledges and post it to Father Christmas to be on ‘nature’s nice list’.
URL:https://discoverhelston.co.uk/event/christmas-trail/
LOCATION:Penrose National Trust\, The Stables\, Penrose\, Helston\, TR130RD
CATEGORIES:Christmas,Kids,Nature
ATTACH;FMTTYPE=image/png:https://discoverhelston.co.uk/wp-content/uploads/2025/08/Screenshot-2025-08-01-142132.png
ORGANIZER;CN="Penrose National Trust":MAILTO:lydia.allt@nationaltrust.org.uk
END:VEVENT
END:VCALENDAR