BEGIN:VCALENDAR
VERSION:2.0
PRODID:-//Discover Helston - ECPv6.15.14//NONSGML v1.0//EN
CALSCALE:GREGORIAN
METHOD:PUBLISH
X-ORIGINAL-URL:https://discoverhelston.co.uk
X-WR-CALDESC:Events for Discover Helston
REFRESH-INTERVAL;VALUE=DURATION:PT1H
X-Robots-Tag:noindex
X-PUBLISHED-TTL:PT1H
BEGIN:VTIMEZONE
TZID:Europe/London
BEGIN:DAYLIGHT
TZOFFSETFROM:+0000
TZOFFSETTO:+0100
TZNAME:BST
DTSTART:20240331T010000
END:DAYLIGHT
BEGIN:STANDARD
TZOFFSETFROM:+0100
TZOFFSETTO:+0000
TZNAME:GMT
DTSTART:20241027T010000
END:STANDARD
BEGIN:DAYLIGHT
TZOFFSETFROM:+0000
TZOFFSETTO:+0100
TZNAME:BST
DTSTART:20250330T010000
END:DAYLIGHT
BEGIN:STANDARD
TZOFFSETFROM:+0100
TZOFFSETTO:+0000
TZNAME:GMT
DTSTART:20251026T010000
END:STANDARD
BEGIN:DAYLIGHT
TZOFFSETFROM:+0000
TZOFFSETTO:+0100
TZNAME:BST
DTSTART:20260329T010000
END:DAYLIGHT
BEGIN:STANDARD
TZOFFSETFROM:+0100
TZOFFSETTO:+0000
TZNAME:GMT
DTSTART:20261025T010000
END:STANDARD
END:VTIMEZONE
BEGIN:VEVENT
DTSTART;TZID=Europe/London:20251011T193000
DTEND;TZID=Europe/London:20251011T210000
DTSTAMP:20260424T232207
CREATED:20251009T201458Z
LAST-MODIFIED:20251009T201458Z
UID:10009415-1760211000-1760216400@discoverhelston.co.uk
SUMMARY:HBC Youth Café 11-17yo
DESCRIPTION:Offering tasty food\, hot chocolate\, and plenty of activities including board games\, table tennis and more.
URL:https://discoverhelston.co.uk/event/hbc-youth-cafe-11-17yo/
LOCATION:Culdrose Community Centre\, 19 Hibernia Road\, Helston\, TR13 8DH
CATEGORIES:Community,Free,Gaming,Kids
ATTACH;FMTTYPE=image/jpeg:https://discoverhelston.co.uk/wp-content/uploads/2025/10/560052735_1199873825509217_58409026250557429_n.jpg
END:VEVENT
END:VCALENDAR