BEGIN:VCALENDAR
VERSION:2.0
PRODID:-//Discover Helston - ECPv6.15.14//NONSGML v1.0//EN
CALSCALE:GREGORIAN
METHOD:PUBLISH
X-ORIGINAL-URL:https://discoverhelston.co.uk
X-WR-CALDESC:Events for Discover Helston
REFRESH-INTERVAL;VALUE=DURATION:PT1H
X-Robots-Tag:noindex
X-PUBLISHED-TTL:PT1H
BEGIN:VTIMEZONE
TZID:Europe/London
BEGIN:DAYLIGHT
TZOFFSETFROM:+0000
TZOFFSETTO:+0100
TZNAME:BST
DTSTART:20250330T010000
END:DAYLIGHT
BEGIN:STANDARD
TZOFFSETFROM:+0100
TZOFFSETTO:+0000
TZNAME:GMT
DTSTART:20251026T010000
END:STANDARD
BEGIN:DAYLIGHT
TZOFFSETFROM:+0000
TZOFFSETTO:+0100
TZNAME:BST
DTSTART:20260329T010000
END:DAYLIGHT
BEGIN:STANDARD
TZOFFSETFROM:+0100
TZOFFSETTO:+0000
TZNAME:GMT
DTSTART:20261025T010000
END:STANDARD
BEGIN:DAYLIGHT
TZOFFSETFROM:+0000
TZOFFSETTO:+0100
TZNAME:BST
DTSTART:20270328T010000
END:DAYLIGHT
BEGIN:STANDARD
TZOFFSETFROM:+0100
TZOFFSETTO:+0000
TZNAME:GMT
DTSTART:20271031T010000
END:STANDARD
END:VTIMEZONE
BEGIN:VEVENT
DTSTART;TZID=Europe/London:20260208T130000
DTEND;TZID=Europe/London:20260208T163000
DTSTAMP:20260424T170312
CREATED:20260127T221942Z
LAST-MODIFIED:20260127T221942Z
UID:10011518-1770555600-1770568200@discoverhelston.co.uk
SUMMARY:Pokemon Trainer Showdown
DESCRIPTION:Pokemon Trainer Showdown! \nWhen? \nSunday 8th Febuary\, 1:00pm til 4:30 pm. Players are free to arrive earlier to practice against each other\, or to tweak their decks\, or just to socialise before the event.
URL:https://discoverhelston.co.uk/event/pokemon-trainer-showdown-4/
LOCATION:Roll the Dice\, 45 Meneage Street\, Helston\, TR13 8RB.\, United Kingdom
CATEGORIES:Community,Gaming
ATTACH;FMTTYPE=image/jpeg:https://discoverhelston.co.uk/wp-content/uploads/2026/01/617621900_122243348852150365_5512974441334364910_n.jpg
END:VEVENT
END:VCALENDAR