BEGIN:VCALENDAR
VERSION:2.0
PRODID:-//Discover Helston - ECPv6.15.14//NONSGML v1.0//EN
CALSCALE:GREGORIAN
METHOD:PUBLISH
X-WR-CALNAME:Discover Helston
X-ORIGINAL-URL:https://discoverhelston.co.uk
X-WR-CALDESC:Events for Discover Helston
REFRESH-INTERVAL;VALUE=DURATION:PT1H
X-Robots-Tag:noindex
X-PUBLISHED-TTL:PT1H
BEGIN:VTIMEZONE
TZID:Europe/London
BEGIN:DAYLIGHT
TZOFFSETFROM:+0000
TZOFFSETTO:+0100
TZNAME:BST
DTSTART:20250330T010000
END:DAYLIGHT
BEGIN:STANDARD
TZOFFSETFROM:+0100
TZOFFSETTO:+0000
TZNAME:GMT
DTSTART:20251026T010000
END:STANDARD
BEGIN:DAYLIGHT
TZOFFSETFROM:+0000
TZOFFSETTO:+0100
TZNAME:BST
DTSTART:20260329T010000
END:DAYLIGHT
BEGIN:STANDARD
TZOFFSETFROM:+0100
TZOFFSETTO:+0000
TZNAME:GMT
DTSTART:20261025T010000
END:STANDARD
BEGIN:DAYLIGHT
TZOFFSETFROM:+0000
TZOFFSETTO:+0100
TZNAME:BST
DTSTART:20270328T010000
END:DAYLIGHT
BEGIN:STANDARD
TZOFFSETFROM:+0100
TZOFFSETTO:+0000
TZNAME:GMT
DTSTART:20271031T010000
END:STANDARD
END:VTIMEZONE
BEGIN:VEVENT
DTSTART;TZID=Europe/London:20260724T183000
DTEND;TZID=Europe/London:20260724T220000
DTSTAMP:20260424T173236
CREATED:20260331T202240Z
LAST-MODIFIED:20260331T202240Z
UID:10014484-1784917800-1784930400@discoverhelston.co.uk
SUMMARY:Roll the Dice – Games Night (13+)
DESCRIPTION:New regular weekly event\nFeaturing tournaments and terrains – more details coming soon\nFridays 6.30pm-10pm
URL:https://discoverhelston.co.uk/event/roll-the-dice-games-night-13/2026-07-24/
LOCATION:The Basement\, Helston Gateway\, The Parade\, Helston\,\, Cornwall\, TR13 8RT\, United Kingdom
CATEGORIES:Gaming,Teen
ATTACH;FMTTYPE=image/png:https://discoverhelston.co.uk/wp-content/uploads/2026/03/Untitled-design-33.png
END:VEVENT
BEGIN:VEVENT
DTSTART;TZID=Europe/London:20260726T100000
DTEND;TZID=Europe/London:20260726T120000
DTSTAMP:20260424T173236
CREATED:20260401T213650Z
LAST-MODIFIED:20260401T213650Z
UID:10014609-1785060000-1785067200@discoverhelston.co.uk
SUMMARY:Youth Group D&D
DESCRIPTION:Our Sunday morning D&D session\, specifically for under 18s.
URL:https://discoverhelston.co.uk/event/youth-group-dd/2026-07-26/
LOCATION:Roll the Dice\, 45 Meneage Street\, Helston\, TR13 8RB.\, United Kingdom
CATEGORIES:Community,Gaming,Kids,Teen
ATTACH;FMTTYPE=image/webp:https://discoverhelston.co.uk/wp-content/uploads/2026/04/YouthGroupD_D.webp
END:VEVENT
BEGIN:VEVENT
DTSTART;TZID=Europe/London:20260731T183000
DTEND;TZID=Europe/London:20260731T220000
DTSTAMP:20260424T173236
CREATED:20260331T202240Z
LAST-MODIFIED:20260331T202240Z
UID:10014485-1785522600-1785535200@discoverhelston.co.uk
SUMMARY:Roll the Dice – Games Night (13+)
DESCRIPTION:New regular weekly event\nFeaturing tournaments and terrains – more details coming soon\nFridays 6.30pm-10pm
URL:https://discoverhelston.co.uk/event/roll-the-dice-games-night-13/2026-07-31/
LOCATION:The Basement\, Helston Gateway\, The Parade\, Helston\,\, Cornwall\, TR13 8RT\, United Kingdom
CATEGORIES:Gaming,Teen
ATTACH;FMTTYPE=image/png:https://discoverhelston.co.uk/wp-content/uploads/2026/03/Untitled-design-33.png
END:VEVENT
END:VCALENDAR