BEGIN:VCALENDAR
VERSION:2.0
PRODID:-//Discover Helston - ECPv6.15.14//NONSGML v1.0//EN
CALSCALE:GREGORIAN
METHOD:PUBLISH
X-ORIGINAL-URL:https://discoverhelston.co.uk
X-WR-CALDESC:Events for Discover Helston
REFRESH-INTERVAL;VALUE=DURATION:PT1H
X-Robots-Tag:noindex
X-PUBLISHED-TTL:PT1H
BEGIN:VTIMEZONE
TZID:Europe/London
BEGIN:DAYLIGHT
TZOFFSETFROM:+0000
TZOFFSETTO:+0100
TZNAME:BST
DTSTART:20240331T010000
END:DAYLIGHT
BEGIN:STANDARD
TZOFFSETFROM:+0100
TZOFFSETTO:+0000
TZNAME:GMT
DTSTART:20241027T010000
END:STANDARD
BEGIN:DAYLIGHT
TZOFFSETFROM:+0000
TZOFFSETTO:+0100
TZNAME:BST
DTSTART:20250330T010000
END:DAYLIGHT
BEGIN:STANDARD
TZOFFSETFROM:+0100
TZOFFSETTO:+0000
TZNAME:GMT
DTSTART:20251026T010000
END:STANDARD
BEGIN:DAYLIGHT
TZOFFSETFROM:+0000
TZOFFSETTO:+0100
TZNAME:BST
DTSTART:20260329T010000
END:DAYLIGHT
BEGIN:STANDARD
TZOFFSETFROM:+0100
TZOFFSETTO:+0000
TZNAME:GMT
DTSTART:20261025T010000
END:STANDARD
END:VTIMEZONE
BEGIN:VEVENT
DTSTART;TZID=Europe/London:20251122T100000
DTEND;TZID=Europe/London:20251122T170000
DTSTAMP:20260425T024644
CREATED:20250929T232346Z
LAST-MODIFIED:20250929T232437Z
UID:10009222-1763805600-1763830800@discoverhelston.co.uk
SUMMARY:Roll The Dice - Winter Fayre
DESCRIPTION:We are hosting our first Winter Fayre! This will be the second of our annual events which is completely free to the public to attend. \n\nWe are hosting this at the Gateway Project\, Helston.\nIn The Basement we have our Vendor hall – full of different vendors\, Learn to Play tabletop games\, Learn to Play TCGs and Paint and Take.\nWe then have our first breakout room with TTRPGS being held throughout the day.\nTide Climbing Centre have also very kindly given us space in their Cafe for the Board Game Library\, and an additional breakout space for Social Deduction Games.\nWe are also having our very first Cosplay competition! More details on that to be announced soon!\nWe are going to announce more details over the coming month\, so watch this space!
URL:https://discoverhelston.co.uk/event/13673/
LOCATION:The Basement\, Helston Gateway\, The Parade\, Helston\,\, Cornwall\, TR13 8RT\, United Kingdom
CATEGORIES:Community,Festival,Gaming,Workshops & Talks
ATTACH;FMTTYPE=image/jpeg:https://discoverhelston.co.uk/wp-content/uploads/2025/09/556244044_122229206594150365_1019422192425039870_n-1.jpg
END:VEVENT
END:VCALENDAR