BEGIN:VCALENDAR
VERSION:2.0
PRODID:-//Discover Helston - ECPv6.15.14//NONSGML v1.0//EN
CALSCALE:GREGORIAN
METHOD:PUBLISH
X-ORIGINAL-URL:https://discoverhelston.co.uk
X-WR-CALDESC:Events for Discover Helston
REFRESH-INTERVAL;VALUE=DURATION:PT1H
X-Robots-Tag:noindex
X-PUBLISHED-TTL:PT1H
BEGIN:VTIMEZONE
TZID:Europe/London
BEGIN:DAYLIGHT
TZOFFSETFROM:+0000
TZOFFSETTO:+0100
TZNAME:BST
DTSTART:20250330T010000
END:DAYLIGHT
BEGIN:STANDARD
TZOFFSETFROM:+0100
TZOFFSETTO:+0000
TZNAME:GMT
DTSTART:20251026T010000
END:STANDARD
BEGIN:DAYLIGHT
TZOFFSETFROM:+0000
TZOFFSETTO:+0100
TZNAME:BST
DTSTART:20260329T010000
END:DAYLIGHT
BEGIN:STANDARD
TZOFFSETFROM:+0100
TZOFFSETTO:+0000
TZNAME:GMT
DTSTART:20261025T010000
END:STANDARD
BEGIN:DAYLIGHT
TZOFFSETFROM:+0000
TZOFFSETTO:+0100
TZNAME:BST
DTSTART:20270328T010000
END:DAYLIGHT
BEGIN:STANDARD
TZOFFSETFROM:+0100
TZOFFSETTO:+0000
TZNAME:GMT
DTSTART:20271031T010000
END:STANDARD
END:VTIMEZONE
BEGIN:VEVENT
DTSTART;TZID=Europe/London:20260403T183000
DTEND;TZID=Europe/London:20260403T220000
DTSTAMP:20260420T171024
CREATED:20260331T202240Z
LAST-MODIFIED:20260331T202240Z
UID:10014468-1775241000-1775253600@discoverhelston.co.uk
SUMMARY:Roll the Dice – Games Night (13+)
DESCRIPTION:New regular weekly event\nFeaturing tournaments and terrains – more details coming soon\nFridays 6.30pm-10pm
URL:https://discoverhelston.co.uk/event/roll-the-dice-games-night-13/2026-04-03/
LOCATION:The Basement\, Helston Gateway\, The Parade\, Helston\,\, Cornwall\, TR13 8RT\, United Kingdom
CATEGORIES:Gaming,Teen
ATTACH;FMTTYPE=image/png:https://discoverhelston.co.uk/wp-content/uploads/2026/03/Untitled-design-33.png
END:VEVENT
BEGIN:VEVENT
DTSTART;TZID=Europe/London:20260404T110000
DTEND;TZID=Europe/London:20260404T180000
DTSTAMP:20260420T171024
CREATED:20260401T213242Z
LAST-MODIFIED:20260401T213242Z
UID:10014592-1775300400-1775325600@discoverhelston.co.uk
SUMMARY:Pokemon Showdown
DESCRIPTION:Pokemon Showdown Clash: Rise of Legends\nWhen? \nSaturday 4th April\, 11am until 6pm. Players are free to arrive earlier to practice against each other\, or to tweak their decks\, or just to socialise before the event. \n  \nWhere? \nRoll the Dice\, 8 Coinagehall Street\, Helston\, Cornwall\, TR13 8RB \n  \nHow much? \n£6 for those aged 15 and under\, £15 for those aged 16 and over. \n  \nWhat is the Pokémon prize support? \n15s and under will receive 1 booster and 1 prize pack each. \n16s and over will receive 2 boosters and 1 prize pack each. \nThe winner of the Juniors and Seniors age brackets will win an extra booster and the Champions playmat. \nThe Top 4 in the Masters division will each win a booster\, with a Champions playmat going to the winner. \n  \nHow many players in each? \nWe have spaces for 12 spaces for Under 16s and 12 for over 16s. On the day\, players will be split into the three categories – Juniors\, Seniors and Masters.
URL:https://discoverhelston.co.uk/event/pokemon-showdown/
LOCATION:Roll the Dice\, 45 Meneage Street\, Helston\, TR13 8RB.\, United Kingdom
CATEGORIES:Community,Gaming
ATTACH;FMTTYPE=image/webp:https://discoverhelston.co.uk/wp-content/uploads/2026/04/PokemonTrainerShowdown_2_b5cbd46e-12af-4991-b264-3de9c1c63f0e.webp
END:VEVENT
BEGIN:VEVENT
DTSTART;TZID=Europe/London:20260405T100000
DTEND;TZID=Europe/London:20260405T120000
DTSTAMP:20260420T171024
CREATED:20260401T213650Z
LAST-MODIFIED:20260401T213650Z
UID:10014593-1775383200-1775390400@discoverhelston.co.uk
SUMMARY:Youth Group D&D
DESCRIPTION:Our Sunday morning D&D session\, specifically for under 18s.
URL:https://discoverhelston.co.uk/event/youth-group-dd/2026-04-05/
LOCATION:Roll the Dice\, 45 Meneage Street\, Helston\, TR13 8RB.\, United Kingdom
CATEGORIES:Community,Gaming,Kids,Teen
ATTACH;FMTTYPE=image/webp:https://discoverhelston.co.uk/wp-content/uploads/2026/04/YouthGroupD_D.webp
END:VEVENT
END:VCALENDAR