BEGIN:VCALENDAR
VERSION:2.0
PRODID:-//Discover Helston - ECPv6.15.14//NONSGML v1.0//EN
CALSCALE:GREGORIAN
METHOD:PUBLISH
X-WR-CALNAME:Discover Helston
X-ORIGINAL-URL:https://discoverhelston.co.uk
X-WR-CALDESC:Events for Discover Helston
REFRESH-INTERVAL;VALUE=DURATION:PT1H
X-Robots-Tag:noindex
X-PUBLISHED-TTL:PT1H
BEGIN:VTIMEZONE
TZID:Europe/London
BEGIN:DAYLIGHT
TZOFFSETFROM:+0000
TZOFFSETTO:+0100
TZNAME:BST
DTSTART:20250330T010000
END:DAYLIGHT
BEGIN:STANDARD
TZOFFSETFROM:+0100
TZOFFSETTO:+0000
TZNAME:GMT
DTSTART:20251026T010000
END:STANDARD
BEGIN:DAYLIGHT
TZOFFSETFROM:+0000
TZOFFSETTO:+0100
TZNAME:BST
DTSTART:20260329T010000
END:DAYLIGHT
BEGIN:STANDARD
TZOFFSETFROM:+0100
TZOFFSETTO:+0000
TZNAME:GMT
DTSTART:20261025T010000
END:STANDARD
BEGIN:DAYLIGHT
TZOFFSETFROM:+0000
TZOFFSETTO:+0100
TZNAME:BST
DTSTART:20270328T010000
END:DAYLIGHT
BEGIN:STANDARD
TZOFFSETFROM:+0100
TZOFFSETTO:+0000
TZNAME:GMT
DTSTART:20271031T010000
END:STANDARD
END:VTIMEZONE
BEGIN:VEVENT
DTSTART;TZID=Europe/London:20260422T073000
DTEND;TZID=Europe/London:20260422T223000
DTSTAMP:20260421T140653
CREATED:20260111T214129Z
LAST-MODIFIED:20260111T214129Z
UID:10010731-1776843000-1776897000@discoverhelston.co.uk
SUMMARY:The Crucible
DESCRIPTION:Join Helston Theatre Company for their retelling of Arthur Miller’s iconic play.\nConsumed by paranoia\, superstition and a ruthless sense of justice\, a climate of fear and mass hysteria sweeps through the town of Salem\, Massachusetts when rumors grow that a group of girls are practicing witchcraft. What lies are the townspeople prepared to tell themselves in order to survive? \nWritten by award-winning American playwright Arthur Miller\, this seminal political history play about Salem in 1692 (and McCarthy’s 1950s America) is a timeless warning to us all. It’s a visceral\, gripping adventure into a desperate\, dangerous world where everyone is implicated\, and nobody is safe! \nThis intense drama promises to be a theatrical highlight of 2026\, showcasing the dramatic talents of our company in one of the greatest plays of the 20th century.
URL:https://discoverhelston.co.uk/event/the-crucible/2026-04-22/
LOCATION:Epworth Hall
CATEGORIES:Theatre
ATTACH;FMTTYPE=image/jpeg:https://discoverhelston.co.uk/wp-content/uploads/2026/01/TC-Website-3000-x-1575-px-1024x538-1.jpg
ORGANIZER;CN="Helston Theatre Company":MAILTO:marketing@helstontheatrecompany.co.uk
END:VEVENT
BEGIN:VEVENT
DTSTART;TZID=Europe/London:20260423T073000
DTEND;TZID=Europe/London:20260423T223000
DTSTAMP:20260421T140653
CREATED:20260111T214129Z
LAST-MODIFIED:20260111T214129Z
UID:10010732-1776929400-1776983400@discoverhelston.co.uk
SUMMARY:The Crucible
DESCRIPTION:Join Helston Theatre Company for their retelling of Arthur Miller’s iconic play.\nConsumed by paranoia\, superstition and a ruthless sense of justice\, a climate of fear and mass hysteria sweeps through the town of Salem\, Massachusetts when rumors grow that a group of girls are practicing witchcraft. What lies are the townspeople prepared to tell themselves in order to survive? \nWritten by award-winning American playwright Arthur Miller\, this seminal political history play about Salem in 1692 (and McCarthy’s 1950s America) is a timeless warning to us all. It’s a visceral\, gripping adventure into a desperate\, dangerous world where everyone is implicated\, and nobody is safe! \nThis intense drama promises to be a theatrical highlight of 2026\, showcasing the dramatic talents of our company in one of the greatest plays of the 20th century.
URL:https://discoverhelston.co.uk/event/the-crucible/2026-04-23/
LOCATION:Epworth Hall
CATEGORIES:Theatre
ATTACH;FMTTYPE=image/jpeg:https://discoverhelston.co.uk/wp-content/uploads/2026/01/TC-Website-3000-x-1575-px-1024x538-1.jpg
ORGANIZER;CN="Helston Theatre Company":MAILTO:marketing@helstontheatrecompany.co.uk
END:VEVENT
BEGIN:VEVENT
DTSTART;TZID=Europe/London:20260424T073000
DTEND;TZID=Europe/London:20260424T223000
DTSTAMP:20260421T140653
CREATED:20260111T214129Z
LAST-MODIFIED:20260111T214129Z
UID:10010733-1777015800-1777069800@discoverhelston.co.uk
SUMMARY:The Crucible
DESCRIPTION:Join Helston Theatre Company for their retelling of Arthur Miller’s iconic play.\nConsumed by paranoia\, superstition and a ruthless sense of justice\, a climate of fear and mass hysteria sweeps through the town of Salem\, Massachusetts when rumors grow that a group of girls are practicing witchcraft. What lies are the townspeople prepared to tell themselves in order to survive? \nWritten by award-winning American playwright Arthur Miller\, this seminal political history play about Salem in 1692 (and McCarthy’s 1950s America) is a timeless warning to us all. It’s a visceral\, gripping adventure into a desperate\, dangerous world where everyone is implicated\, and nobody is safe! \nThis intense drama promises to be a theatrical highlight of 2026\, showcasing the dramatic talents of our company in one of the greatest plays of the 20th century.
URL:https://discoverhelston.co.uk/event/the-crucible/2026-04-24/
LOCATION:Epworth Hall
CATEGORIES:Theatre
ATTACH;FMTTYPE=image/jpeg:https://discoverhelston.co.uk/wp-content/uploads/2026/01/TC-Website-3000-x-1575-px-1024x538-1.jpg
ORGANIZER;CN="Helston Theatre Company":MAILTO:marketing@helstontheatrecompany.co.uk
END:VEVENT
BEGIN:VEVENT
DTSTART;TZID=Europe/London:20260425T073000
DTEND;TZID=Europe/London:20260425T223000
DTSTAMP:20260421T140653
CREATED:20260111T214129Z
LAST-MODIFIED:20260111T214129Z
UID:10010734-1777102200-1777156200@discoverhelston.co.uk
SUMMARY:The Crucible
DESCRIPTION:Join Helston Theatre Company for their retelling of Arthur Miller’s iconic play.\nConsumed by paranoia\, superstition and a ruthless sense of justice\, a climate of fear and mass hysteria sweeps through the town of Salem\, Massachusetts when rumors grow that a group of girls are practicing witchcraft. What lies are the townspeople prepared to tell themselves in order to survive? \nWritten by award-winning American playwright Arthur Miller\, this seminal political history play about Salem in 1692 (and McCarthy’s 1950s America) is a timeless warning to us all. It’s a visceral\, gripping adventure into a desperate\, dangerous world where everyone is implicated\, and nobody is safe! \nThis intense drama promises to be a theatrical highlight of 2026\, showcasing the dramatic talents of our company in one of the greatest plays of the 20th century.
URL:https://discoverhelston.co.uk/event/the-crucible/2026-04-25/
LOCATION:Epworth Hall
CATEGORIES:Theatre
ATTACH;FMTTYPE=image/jpeg:https://discoverhelston.co.uk/wp-content/uploads/2026/01/TC-Website-3000-x-1575-px-1024x538-1.jpg
ORGANIZER;CN="Helston Theatre Company":MAILTO:marketing@helstontheatrecompany.co.uk
END:VEVENT
END:VCALENDAR