BEGIN:VCALENDAR
VERSION:2.0
PRODID:-//Discover Helston - ECPv6.15.14//NONSGML v1.0//EN
CALSCALE:GREGORIAN
METHOD:PUBLISH
X-WR-CALNAME:Discover Helston
X-ORIGINAL-URL:https://discoverhelston.co.uk
X-WR-CALDESC:Events for Discover Helston
REFRESH-INTERVAL;VALUE=DURATION:PT1H
X-Robots-Tag:noindex
X-PUBLISHED-TTL:PT1H
BEGIN:VTIMEZONE
TZID:Europe/London
BEGIN:DAYLIGHT
TZOFFSETFROM:+0000
TZOFFSETTO:+0100
TZNAME:BST
DTSTART:20240331T010000
END:DAYLIGHT
BEGIN:STANDARD
TZOFFSETFROM:+0100
TZOFFSETTO:+0000
TZNAME:GMT
DTSTART:20241027T010000
END:STANDARD
BEGIN:DAYLIGHT
TZOFFSETFROM:+0000
TZOFFSETTO:+0100
TZNAME:BST
DTSTART:20250330T010000
END:DAYLIGHT
BEGIN:STANDARD
TZOFFSETFROM:+0100
TZOFFSETTO:+0000
TZNAME:GMT
DTSTART:20251026T010000
END:STANDARD
BEGIN:DAYLIGHT
TZOFFSETFROM:+0000
TZOFFSETTO:+0100
TZNAME:BST
DTSTART:20260329T010000
END:DAYLIGHT
BEGIN:STANDARD
TZOFFSETFROM:+0100
TZOFFSETTO:+0000
TZNAME:GMT
DTSTART:20261025T010000
END:STANDARD
BEGIN:DAYLIGHT
TZOFFSETFROM:+0000
TZOFFSETTO:+0100
TZNAME:BST
DTSTART:20270328T010000
END:DAYLIGHT
BEGIN:STANDARD
TZOFFSETFROM:+0100
TZOFFSETTO:+0000
TZNAME:GMT
DTSTART:20271031T010000
END:STANDARD
END:VTIMEZONE
BEGIN:VEVENT
DTSTART;TZID=Europe/London:20250920T100000
DTEND;TZID=Europe/London:20260430T150000
DTSTAMP:20260425T004801
CREATED:20250801T132116Z
LAST-MODIFIED:20250801T132116Z
UID:10007166-1758362400-1777561200@discoverhelston.co.uk
SUMMARY:Exhibition - Nature Recovery in Cornwall
DESCRIPTION:On a single day in summer\, one acre of wildflower meadow can contain 3 million flowers\, producing 1kg of nectar sugar. That’s enough to support nearly 96\,000 honeybees per day. \n97% of species-rich grassland has been lost in the UK since the 1930s\, with the remaining 3% mostly fragmented across the country\, leaving little room for wildlife to spread. \nExplore how the National Trust and partners are tackling these issues\, through the Coastal Meadows project and the Lizard Rarities Project\, in this photography exhibition.
URL:https://discoverhelston.co.uk/event/exhibition-nature-recovery-in-cornwall/
LOCATION:Penrose National Trust\, The Stables\, Penrose\, Helston\, TR130RD
CATEGORIES:Nature
ATTACH;FMTTYPE=image/png:https://discoverhelston.co.uk/wp-content/uploads/2025/08/Screenshot-2025-08-01-141716.png
ORGANIZER;CN="Penrose National Trust":MAILTO:lydia.allt@nationaltrust.org.uk
END:VEVENT
BEGIN:VEVENT
DTSTART;TZID=Europe/London:20251206T100000
DTEND;TZID=Europe/London:20260104T150000
DTSTAMP:20260425T004802
CREATED:20250801T132448Z
LAST-MODIFIED:20250801T132448Z
UID:10007167-1765015200-1767538800@discoverhelston.co.uk
SUMMARY:Christmas trail
DESCRIPTION:Join us at the Stables Cafe\, follow a trail around the Walled Garden to uncover the missing part of Santa’s address. Once you’ve completed the address fill in the Nature Pledges and post it to Father Christmas to be on ‘nature’s nice list’.
URL:https://discoverhelston.co.uk/event/christmas-trail/
LOCATION:Penrose National Trust\, The Stables\, Penrose\, Helston\, TR130RD
CATEGORIES:Christmas,Kids,Nature
ATTACH;FMTTYPE=image/png:https://discoverhelston.co.uk/wp-content/uploads/2025/08/Screenshot-2025-08-01-142132.png
ORGANIZER;CN="Penrose National Trust":MAILTO:lydia.allt@nationaltrust.org.uk
END:VEVENT
BEGIN:VEVENT
DTSTART;TZID=Europe/London:20251222T100000
DTEND;TZID=Europe/London:20251222T163000
DTSTAMP:20260425T004802
CREATED:20250929T222638Z
LAST-MODIFIED:20250929T222652Z
UID:10008834-1766397600-1766421000@discoverhelston.co.uk
SUMMARY:Santa Specials and Train of Lights
DESCRIPTION:Good news our Santa Specials and Train of Lights booking is now open. Further details will be available shortly via the website. You can BOOK NOW to reserve you space.
URL:https://discoverhelston.co.uk/event/santa-specials-and-train-of-lights-3/
LOCATION:Helston Railway\, Trevarno Farm\, Helston\, TR130RY
CATEGORIES:Christmas
ATTACH;FMTTYPE=image/jpeg:https://discoverhelston.co.uk/wp-content/uploads/2025/09/553422667_1331304159002398_7688350613733895500_n.jpg
ORGANIZER;CN="Helston Railway":MAILTO:info@helstonrailway.co.uk
END:VEVENT
BEGIN:VEVENT
DTSTART;TZID=Europe/London:20251222T100000
DTEND;TZID=Europe/London:20251222T170000
DTSTAMP:20260425T004802
CREATED:20240710T093819Z
LAST-MODIFIED:20240710T093819Z
UID:10002044-1766397600-1766422800@discoverhelston.co.uk
SUMMARY:Breast Intentions Breastfeeding Support Group
DESCRIPTION:
URL:https://discoverhelston.co.uk/event/breast-intentions-breastfeeding-support-group/2025-12-22/
CATEGORIES:Community,Free
ATTACH;FMTTYPE=image/jpeg:https://discoverhelston.co.uk/wp-content/uploads/2024/07/450356692_880738710748177_2822915159973004315_n.jpg
END:VEVENT
BEGIN:VEVENT
DTSTART;TZID=Europe/London:20251223T150000
DTEND;TZID=Europe/London:20251223T160000
DTSTAMP:20260425T004802
CREATED:20240710T093446Z
LAST-MODIFIED:20240710T093446Z
UID:10001780-1766502000-1766505600@discoverhelston.co.uk
SUMMARY:Helston Community Larder
DESCRIPTION:
URL:https://discoverhelston.co.uk/event/helston-community-larder/2025-12-23/
CATEGORIES:Community,Free
ATTACH;FMTTYPE=image/jpeg:https://discoverhelston.co.uk/wp-content/uploads/2024/07/450498791_517421213944426_2091204157819146602_n.jpg
END:VEVENT
BEGIN:VEVENT
DTSTART;TZID=Europe/London:20251223T180000
DTEND;TZID=Europe/London:20251223T190000
DTSTAMP:20260425T004802
CREATED:20250429T135706Z
LAST-MODIFIED:20250429T135708Z
UID:10005951-1766512800-1766516400@discoverhelston.co.uk
SUMMARY:Open Level Vinyasa Yoga with Julia Collura
DESCRIPTION:Treat yourself to an ‘outside of the box’ yoga class!  \nThese 75 minute sessions are a balanced blend of gentle warmups\, energetic flowing sequences\, breathwork and meditation and finish with a gentle head message using essential oils. Adjustments are offered to refine alignment.  \nAs an experienced yogini & teacher\, Julia aims to offer a challenging physical practice delivered with a blend of inspirational humour and expansive language to enable participants to access an individual connection with mind\, body and spirit.  \nA natural storyteller\, she often weaves a tale of two into her sessions\, with the intention to elicit insights from participants\, motivating them to keep their flow going both on and off the mat.  \nBooking essential.
URL:https://discoverhelston.co.uk/event/open-level-vinyasa-yoga-with-julia-collura-2/2025-12-23/
LOCATION:CAST Cornwall\, Cornubian Arts & Science Trust\, 3 Penrose Road\, Helston Cornwall\, Helston\, TR13 8TP\, United Kingdom
ATTACH;FMTTYPE=image/jpeg:https://discoverhelston.co.uk/wp-content/uploads/2025/04/IMG_7047-scaled.jpeg
ORGANIZER;CN="@yogawithjuliacollura":MAILTO:jcollura@btinternet.com
END:VEVENT
BEGIN:VEVENT
DTSTART;TZID=Europe/London:20251223T190000
DTEND;TZID=Europe/London:20251223T210000
DTSTAMP:20260425T004802
CREATED:20250403T112440Z
LAST-MODIFIED:20260311T001001Z
UID:10005146-1766516400-1766523600@discoverhelston.co.uk
SUMMARY:Man Down Helston
DESCRIPTION:What is Man Down ??\nWe are here to help reduce the number of male suicides and reduce the stigma surrounding mental health by offering men the space to talk about their emotions. The main way we do this is by facilitating free-to-attend fortnightly informal talking group meetings held at locations all over the UK.\n\nWhat happens at Man Down Helston ??\nEvery two weeks on a Tuesday at 7pm we invite men to come along and talk about their mental health as part of a supportive talking group. By offering the chance to speak and listening to others\, together we break down the stigma associated with talking about our emotions. All attending agree to the sessions being a confidential\, non-judgemental and safe space to share. We also offer social meet ups and an online peer support group for those that have attended a face-to-face talking group meeting.
URL:https://discoverhelston.co.uk/event/10932/2025-12-23/
LOCATION:The Old Cattle Market\, Porthleven Rd\, Helston\, TR13 0SR
CATEGORIES:Community,Free,Wellbeing,Workshops & Talks
ATTACH;FMTTYPE=image/jpeg:https://discoverhelston.co.uk/wp-content/uploads/2025/04/472972679_1170052108454761_8895776197142061910_n.jpg
ORGANIZER;CN="Man Down":MAILTO:support@mandown.org
END:VEVENT
BEGIN:VEVENT
DTSTART;TZID=Europe/London:20251223T190000
DTEND;TZID=Europe/London:20251223T210000
DTSTAMP:20260425T004802
CREATED:20251218T193541Z
LAST-MODIFIED:20251218T193541Z
UID:10010180-1766516400-1766523600@discoverhelston.co.uk
SUMMARY:Drop-in skate workshop
DESCRIPTION:Ready to improve your skating? Join Coach Frank for a drop-in skate workshop with indoor ramps and expert coaching. \nWhether you’re just getting started or want to nail some new tricks\, this session has you covered. Learn proper technique\, build your confidence\, and progress at your own pace in a supportive environment. \nWhat’s Happening: \nIndoor ramps – skate whatever the weatherExpert tuition from Coach Frank 7-8pmFree skate time to practice your new skills 8-9pmDrop-in format – come and go as you likeAll skill levels welcomeGet tips on technique\, safety\, and progressing your skills \nNo need to book ahead – just turn up with your board and helmet\, and Coach Frank will help you take your skating to the next level. Perfect whether you’re finding your feet or ready to push your limits.
URL:https://discoverhelston.co.uk/event/drop-in-skate-workshop/
LOCATION:The Basement\, Helston Gateway\, The Parade\, Helston\,\, Cornwall\, TR13 8RT\, United Kingdom
CATEGORIES:Sport,Teen,Workshops & Talks
ATTACH;FMTTYPE=image/jpeg:https://discoverhelston.co.uk/wp-content/uploads/2025/12/597896245_122115645687009019_507949477996527182_n.jpg
END:VEVENT
BEGIN:VEVENT
DTSTART;TZID=Europe/London:20251223T190000
DTEND;TZID=Europe/London:20251223T230000
DTSTAMP:20260425T004802
CREATED:20251217T152437Z
LAST-MODIFIED:20251217T152437Z
UID:10010174-1766516400-1766530800@discoverhelston.co.uk
SUMMARY:Christmas Quiz
DESCRIPTION:Prizes for best chrimbo outfit\, prizes for rounds\, prizes for sprout eating champions and prizes just because it’s Christmas!!!
URL:https://discoverhelston.co.uk/event/christmas-quiz/
LOCATION:Inn & Still\, Coinagehall Street\, Helston
CATEGORIES:Christmas,Quiz
ATTACH;FMTTYPE=image/png:https://discoverhelston.co.uk/wp-content/uploads/2025/12/Screenshot-2025-12-17-152334.png
END:VEVENT
BEGIN:VEVENT
DTSTART;TZID=Europe/London:20251224T150000
DTEND;TZID=Europe/London:20251224T160000
DTSTAMP:20260425T004802
CREATED:20251219T144043Z
LAST-MODIFIED:20251219T144043Z
UID:10010185-1766588400-1766592000@discoverhelston.co.uk
SUMMARY:Christingle Service
DESCRIPTION:Children’s Christingle service
URL:https://discoverhelston.co.uk/event/christingle-service/
LOCATION:St Michael’s Church\, Helston
CATEGORIES:Christmas,Festive,Free,Kids,Teen
ATTACH;FMTTYPE=image/jpeg:https://discoverhelston.co.uk/wp-content/uploads/2025/12/595455569_10164278383339612_5732321633598893888_n.jpg
END:VEVENT
BEGIN:VEVENT
DTSTART;TZID=Europe/London:20251224T180000
DTEND;TZID=Europe/London:20251224T210000
DTSTAMP:20260425T004802
CREATED:20251219T143223Z
LAST-MODIFIED:20251219T143223Z
UID:10010183-1766599200-1766610000@discoverhelston.co.uk
SUMMARY:Carols at Helston Tesco
DESCRIPTION:This festive season\, your shopping trip comes with a live soundtrack! \nWhile you’re browsing for the perfect gifts\, be delighted by the sounds of the season. Helston Town Band will be playing a selection of beautiful Christmas carols and festive favourites in Tesco.
URL:https://discoverhelston.co.uk/event/carols-at-helston-tesco/
LOCATION:Tesco\, Clodgey Lane\, Helston\, United Kingdom
CATEGORIES:Christmas,Festival,Nightlife & Music
ATTACH;FMTTYPE=image/jpeg:https://discoverhelston.co.uk/wp-content/uploads/2025/12/590366894_1396305679011178_2655813933851398703_n.jpg
ORGANIZER;CN="Helston Town Band":MAILTO:bandhelston@gmail.com
END:VEVENT
BEGIN:VEVENT
DTSTART;TZID=Europe/London:20251224T203000
DTEND;TZID=Europe/London:20251224T233000
DTSTAMP:20260425T004802
CREATED:20251218T192722Z
LAST-MODIFIED:20251218T192722Z
UID:10010178-1766608200-1766619000@discoverhelston.co.uk
SUMMARY:Christmas Eve Karaoke
DESCRIPTION:Christmas Eve Karaoke at The Godolphin Club! \n\nLooking for a fun\, festive way to spend Christmas Eve? Come and join us for a night of singalong classics\, big laughs\, and that cosy Godolphin atmosphere we all love.\n All your favourite karaoke hits\n Great drinks to keep the spirits bright\n A relaxed\, Christmassy vibe — everyone welcome\n No pressure\, just good fun with good people\nBring your friends\, warm up those vocal cords\, and let’s make Christmas Eve one to remember\n\nWednesday 24th December \n8.30pm \nFREE SHOT FOR EVERY SINGER.
URL:https://discoverhelston.co.uk/event/christmas-eve-karaoke/
LOCATION:The Godolphin Club\, Wendron St\, Helston\, TR13 8PS\, United Kingdom
CATEGORIES:Nightlife & Music
ATTACH;FMTTYPE=image/jpeg:https://discoverhelston.co.uk/wp-content/uploads/2025/12/600299532_122183208188538908_1796387744404226797_n.jpg
END:VEVENT
BEGIN:VEVENT
DTSTART;TZID=Europe/London:20251225T103000
DTEND;TZID=Europe/London:20251225T123000
DTSTAMP:20260425T004802
CREATED:20251002T211654Z
LAST-MODIFIED:20260411T202856Z
UID:10011520-1766658600-1766665800@discoverhelston.co.uk
SUMMARY:Meet up - Quiet Hearts
DESCRIPTION:This weekly group is designed to help you make meaningful connections with like-minded people in a calm and gentle way that feels authentic to your true quiet self.\n\nAs part of HushFest\, Cornwall’s festival of quietness\, we’re creating a collaborative textile installation made up of handmade hearts. Each heart will be crafted by a different person\, using materials that feel good to touch and work with; wool\, felt\, crochet\, fabric scraps.\n\nHead to our website to learn more about the Quiet Hearts Project\n\nWhether you’re chatting and sharing stories with your fellow quieteers\, enjoying a craft or wellbeing activity\, or simply relaxing with a good book in the company of others\, this is a safe space where your quiet voice matters – and where you can feel part of a community that truly gets you.\nWe can’t wait to welcome you.\nFull information at https://quietconnections.co.uk/helston/
URL:https://discoverhelston.co.uk/event/meet-up-quiet-connections/2025-12-25/
LOCATION:Epworth Hall
CATEGORIES:Community,Free
ATTACH;FMTTYPE=image/jpeg:https://discoverhelston.co.uk/wp-content/uploads/2025/10/547643976_1386630513462642_2276591012128415239_n.jpg
END:VEVENT
BEGIN:VEVENT
DTSTART;TZID=Europe/London:20251225T120000
DTEND;TZID=Europe/London:20251225T183000
DTSTAMP:20260425T004802
CREATED:20251217T153730Z
LAST-MODIFIED:20251217T153730Z
UID:10010176-1766664000-1766687400@discoverhelston.co.uk
SUMMARY:Christmas Day at Henlys
DESCRIPTION:Join us for a little festive magic with The Cornish Crooner bringing all that jazz to your Christmas celebrations. \n\n Live from 12pm\n Relax with a drink\, soak up the atmosphere and enjoy the smooth sounds of Christmas classics and jazz favourites.\n\nWhether you’re popping in after a stroll or settling in for a longer stay\, this is the perfect way to add a touch of sparkle to your Christmas Day in Helston.
URL:https://discoverhelston.co.uk/event/christmas-day-at-henlys/
LOCATION:Henlys Wine Bar Cafe Bistro\, 2 Church St\, Helston\, Cornwall\, TR13 8TG\, United Kingdom
CATEGORIES:Christmas,Nightlife & Music
ATTACH;FMTTYPE=image/jpeg:https://discoverhelston.co.uk/wp-content/uploads/2025/12/600470733_122205425414291034_5179978138811165313_n.jpg
END:VEVENT
BEGIN:VEVENT
DTSTART;TZID=Europe/London:20251227T090000
DTEND;TZID=Europe/London:20251227T110000
DTSTAMP:20260425T004802
CREATED:20240530T101045Z
LAST-MODIFIED:20240827T095318Z
UID:10002997-1766826000-1766833200@discoverhelston.co.uk
SUMMARY:Wellbeing: Penrose Park Run
DESCRIPTION:What is Penrose parkrun?\n\n\n\nA free\, fun\, and friendly weekly 5k community event. Walk\, jog\, run\, volunteer or spectate – it’s up to you! \n\n\n\nWhen is it?\n\n\n\nEvery Saturday at 9:00am. \n\n\n\nWhere is it?\n\n\n\nThe event takes place at Penrose Estate\, Porthleven Road\, Helston\, Cornwall TR13 0RA. See Course page for more details. \n\n\n\nWhat does it cost to join in?\n\n\n\nNothing – it’s free! but please register before you first come along. Only ever register with parkrun once and don’t forget to bring a scannable copy of your barcode (request a reminder). If you forget it\, you won’t get a time. \n\n\n\nHow fast do I have to be?\n\n\n\nWe all take part for our own enjoyment. Please come along and join in whatever your pace! \n\n\n\nPenrose parkrun needs you!\n\n\n\nIt is entirely organised by volunteers – email penrose@parkrun.com to help. \n\n\n\nSafeguarding\n\n\n\nparkrun is committed to safeguarding and promoting the welfare of children and adults at risk. For our full safeguarding processes and policies\, including how to report a concern\, please see our Safeguarding Hub. \n\n\n\nWe’re friendly!\n\n\n\nEvery week we grab a post parkrun coffee in the lakeside Café – please come and join us!
URL:https://discoverhelston.co.uk/event/wellbeing-penrose-park-run/2025-12-27/
LOCATION:Penrose National Trust\, The Stables\, Penrose\, Helston\, TR130RD
ATTACH;FMTTYPE=image/jpeg:https://discoverhelston.co.uk/wp-content/uploads/2024/05/DSC06569-660x420-RnBFGA.tmp_.jpg
END:VEVENT
BEGIN:VEVENT
DTSTART;TZID=Europe/London:20251227T130000
DTEND;TZID=Europe/London:20251227T160000
DTSTAMP:20260425T004802
CREATED:20251219T144415Z
LAST-MODIFIED:20251219T144415Z
UID:10010186-1766840400-1766851200@discoverhelston.co.uk
SUMMARY:Under 15's Build and Battle Event
DESCRIPTION:Join us for our first Under 15s Pokemon event!This is extremely limited to just 10 players\, and for just £5 each player will get a Surging Sparks Build and Battle Deck\, along with their 3 boosters\, to compete against each other to see who will be the best trainer! \nThis is a casual/competitive event\, where the players don’t need to bring anything and can have any level of playing experience. \nThis is strictly for under 15s\, and age verification may be requested on arrival.
URL:https://discoverhelston.co.uk/event/under-15s-build-and-battle-event/
LOCATION:Roll the Dice\, 45 Meneage Street\, Helston\, TR13 8RB.\, United Kingdom
CATEGORIES:Gaming,Kids
ATTACH;FMTTYPE=image/jpeg:https://discoverhelston.co.uk/wp-content/uploads/2025/12/590509298_122236727012150365_6886599537462376898_n.jpg
END:VEVENT
BEGIN:VEVENT
DTSTART;TZID=Europe/London:20251227T180000
DTEND;TZID=Europe/London:20251227T200000
DTSTAMP:20260425T004802
CREATED:20251217T140004Z
LAST-MODIFIED:20251217T140004Z
UID:10010166-1766858400-1766865600@discoverhelston.co.uk
SUMMARY:Amplify DJ Taster Evening (13+)
DESCRIPTION:with Natalie from Amplify\nEver wanted to try DJing? Here’s your chance to get hands-on with the decks and learn from the pros. \nJoin Natalie from Amplify for a relaxed drop-in workshop where you can discover what it takes to mix tracks\, create transitions\, and get a crowd moving. Whether you’ve never touched a deck before or you’re already mixing at home\, this session is for you. \nFollowing the huge success of October’s half-term workshop\, this is an opportunity to experience the workshops again and register your interest to join a regular programme in the new year. \nWhat’s Happening: \n\n6:00 pm – 8:00pm: Drop-in DJ workshop with Natalie\nAll abilities welcome – complete beginners to experienced DJs\nShare your favourite tunes and get tips on mixing and technique\nTry out professional equipment in a supportive environment\nHear what’s possible and get inspired by meeting students who’ve been through the programme\n\nNo pressure\, no judgement – just come along\, have a go\, share your music taste\, and see if DJing is for you. \nDrop in anytime during the workshop (6-8pm) \nThis workshop is FREE
URL:https://discoverhelston.co.uk/event/amplify-dj-taster-evening-13-2/
LOCATION:The Basement\, Helston Gateway\, The Parade\, Helston\,\, Cornwall\, TR13 8RT\, United Kingdom
CATEGORIES:Free,Nightlife & Music,Teen
ATTACH;FMTTYPE=image/jpeg:https://discoverhelston.co.uk/wp-content/uploads/2025/12/Untitled-design-5-1.jpg
END:VEVENT
BEGIN:VEVENT
DTSTART;TZID=Europe/London:20251227T193000
DTEND;TZID=Europe/London:20251227T223000
DTSTAMP:20260425T004802
CREATED:20251030T190741Z
LAST-MODIFIED:20251211T114514Z
UID:10009588-1766863800-1766874600@discoverhelston.co.uk
SUMMARY:Godolphin Club Bingo!
DESCRIPTION:Eyes down! Dabbers out! \n7:30pm start\, 8 games for £6.00 \nNon Members welcome.
URL:https://discoverhelston.co.uk/event/godolphin-club-bingo/2025-12-27/
LOCATION:The Godolphin Club\, Wendron St\, Helston\, TR13 8PS\, United Kingdom
CATEGORIES:Nightlife & Music
ATTACH;FMTTYPE=image/png:https://discoverhelston.co.uk/wp-content/uploads/2025/10/Pink-and-White-Playful-Lets-PlayBingo-Game-Presentation-Facebook-Post.png
END:VEVENT
END:VCALENDAR