BEGIN:VCALENDAR
VERSION:2.0
PRODID:-//Discover Helston - ECPv6.15.14//NONSGML v1.0//EN
CALSCALE:GREGORIAN
METHOD:PUBLISH
X-WR-CALNAME:Discover Helston
X-ORIGINAL-URL:https://discoverhelston.co.uk
X-WR-CALDESC:Events for Discover Helston
REFRESH-INTERVAL;VALUE=DURATION:PT1H
X-Robots-Tag:noindex
X-PUBLISHED-TTL:PT1H
BEGIN:VTIMEZONE
TZID:Europe/London
BEGIN:DAYLIGHT
TZOFFSETFROM:+0000
TZOFFSETTO:+0100
TZNAME:BST
DTSTART:20240331T010000
END:DAYLIGHT
BEGIN:STANDARD
TZOFFSETFROM:+0100
TZOFFSETTO:+0000
TZNAME:GMT
DTSTART:20241027T010000
END:STANDARD
BEGIN:DAYLIGHT
TZOFFSETFROM:+0000
TZOFFSETTO:+0100
TZNAME:BST
DTSTART:20250330T010000
END:DAYLIGHT
BEGIN:STANDARD
TZOFFSETFROM:+0100
TZOFFSETTO:+0000
TZNAME:GMT
DTSTART:20251026T010000
END:STANDARD
BEGIN:DAYLIGHT
TZOFFSETFROM:+0000
TZOFFSETTO:+0100
TZNAME:BST
DTSTART:20260329T010000
END:DAYLIGHT
BEGIN:STANDARD
TZOFFSETFROM:+0100
TZOFFSETTO:+0000
TZNAME:GMT
DTSTART:20261025T010000
END:STANDARD
BEGIN:DAYLIGHT
TZOFFSETFROM:+0000
TZOFFSETTO:+0100
TZNAME:BST
DTSTART:20270328T010000
END:DAYLIGHT
BEGIN:STANDARD
TZOFFSETFROM:+0100
TZOFFSETTO:+0000
TZNAME:GMT
DTSTART:20271031T010000
END:STANDARD
END:VTIMEZONE
BEGIN:VEVENT
DTSTART;TZID=Europe/London:20260317T130000
DTEND;TZID=Europe/London:20260317T150000
DTSTAMP:20260420T170825
CREATED:20251002T214339Z
LAST-MODIFIED:20251002T214339Z
UID:10009387-1773752400-1773759600@discoverhelston.co.uk
SUMMARY:Pain Café
DESCRIPTION:Living with chronic pain or know someone who is? \n\nThe Pain Café offers a friendly\, informal space to connect with others\, share experiences\, and discover new ways to manage pain.\n Please come and join us at your local Pain Café at The Old Cattle Market on the 3rd Tuesday of the month\, 1–3pm.\nIt’s a welcoming space to talk\, learn\, and support each other – you don’t have to manage chronic pain alone. \n\nFind out more: https://pain.cafe/
URL:https://discoverhelston.co.uk/event/pain-cafe/2026-03-17/
LOCATION:The Old Cattle Market\, Porthleven Rd\, Helston\, TR13 0SR
CATEGORIES:Community,Wellbeing
ATTACH;FMTTYPE=image/jpeg:https://discoverhelston.co.uk/wp-content/uploads/2025/10/557603980_122184549218332307_6308916899991798178_n.jpg
END:VEVENT
BEGIN:VEVENT
DTSTART;TZID=Europe/London:20260217T130000
DTEND;TZID=Europe/London:20260217T150000
DTSTAMP:20260420T170825
CREATED:20251002T214339Z
LAST-MODIFIED:20251002T214339Z
UID:10009386-1771333200-1771340400@discoverhelston.co.uk
SUMMARY:Pain Café
DESCRIPTION:Living with chronic pain or know someone who is? \n\nThe Pain Café offers a friendly\, informal space to connect with others\, share experiences\, and discover new ways to manage pain.\n Please come and join us at your local Pain Café at The Old Cattle Market on the 3rd Tuesday of the month\, 1–3pm.\nIt’s a welcoming space to talk\, learn\, and support each other – you don’t have to manage chronic pain alone. \n\nFind out more: https://pain.cafe/
URL:https://discoverhelston.co.uk/event/pain-cafe/2026-02-17/
LOCATION:The Old Cattle Market\, Porthleven Rd\, Helston\, TR13 0SR
CATEGORIES:Community,Wellbeing
ATTACH;FMTTYPE=image/jpeg:https://discoverhelston.co.uk/wp-content/uploads/2025/10/557603980_122184549218332307_6308916899991798178_n.jpg
END:VEVENT
BEGIN:VEVENT
DTSTART;TZID=Europe/London:20260120T130000
DTEND;TZID=Europe/London:20260120T150000
DTSTAMP:20260420T170825
CREATED:20251002T214339Z
LAST-MODIFIED:20251002T214339Z
UID:10009385-1768914000-1768921200@discoverhelston.co.uk
SUMMARY:Pain Café
DESCRIPTION:Living with chronic pain or know someone who is? \n\nThe Pain Café offers a friendly\, informal space to connect with others\, share experiences\, and discover new ways to manage pain.\n Please come and join us at your local Pain Café at The Old Cattle Market on the 3rd Tuesday of the month\, 1–3pm.\nIt’s a welcoming space to talk\, learn\, and support each other – you don’t have to manage chronic pain alone. \n\nFind out more: https://pain.cafe/
URL:https://discoverhelston.co.uk/event/pain-cafe/2026-01-20/
LOCATION:The Old Cattle Market\, Porthleven Rd\, Helston\, TR13 0SR
CATEGORIES:Community,Wellbeing
ATTACH;FMTTYPE=image/jpeg:https://discoverhelston.co.uk/wp-content/uploads/2025/10/557603980_122184549218332307_6308916899991798178_n.jpg
END:VEVENT
BEGIN:VEVENT
DTSTART;TZID=Europe/London:20251216T130000
DTEND;TZID=Europe/London:20251216T150000
DTSTAMP:20260420T170825
CREATED:20251002T214339Z
LAST-MODIFIED:20251002T214339Z
UID:10009384-1765890000-1765897200@discoverhelston.co.uk
SUMMARY:Pain Café
DESCRIPTION:Living with chronic pain or know someone who is? \n\nThe Pain Café offers a friendly\, informal space to connect with others\, share experiences\, and discover new ways to manage pain.\n Please come and join us at your local Pain Café at The Old Cattle Market on the 3rd Tuesday of the month\, 1–3pm.\nIt’s a welcoming space to talk\, learn\, and support each other – you don’t have to manage chronic pain alone. \n\nFind out more: https://pain.cafe/
URL:https://discoverhelston.co.uk/event/pain-cafe/2025-12-16/
LOCATION:The Old Cattle Market\, Porthleven Rd\, Helston\, TR13 0SR
CATEGORIES:Community,Wellbeing
ATTACH;FMTTYPE=image/jpeg:https://discoverhelston.co.uk/wp-content/uploads/2025/10/557603980_122184549218332307_6308916899991798178_n.jpg
END:VEVENT
BEGIN:VEVENT
DTSTART;TZID=Europe/London:20251118T130000
DTEND;TZID=Europe/London:20251118T150000
DTSTAMP:20260420T170825
CREATED:20251002T214339Z
LAST-MODIFIED:20251002T214339Z
UID:10009383-1763470800-1763478000@discoverhelston.co.uk
SUMMARY:Pain Café
DESCRIPTION:Living with chronic pain or know someone who is? \n\nThe Pain Café offers a friendly\, informal space to connect with others\, share experiences\, and discover new ways to manage pain.\n Please come and join us at your local Pain Café at The Old Cattle Market on the 3rd Tuesday of the month\, 1–3pm.\nIt’s a welcoming space to talk\, learn\, and support each other – you don’t have to manage chronic pain alone. \n\nFind out more: https://pain.cafe/
URL:https://discoverhelston.co.uk/event/pain-cafe/2025-11-18/
LOCATION:The Old Cattle Market\, Porthleven Rd\, Helston\, TR13 0SR
CATEGORIES:Community,Wellbeing
ATTACH;FMTTYPE=image/jpeg:https://discoverhelston.co.uk/wp-content/uploads/2025/10/557603980_122184549218332307_6308916899991798178_n.jpg
END:VEVENT
BEGIN:VEVENT
DTSTART;TZID=Europe/London:20251021T130000
DTEND;TZID=Europe/London:20251021T150000
DTSTAMP:20260420T170825
CREATED:20251002T214339Z
LAST-MODIFIED:20251002T214339Z
UID:10009382-1761051600-1761058800@discoverhelston.co.uk
SUMMARY:Pain Café
DESCRIPTION:Living with chronic pain or know someone who is? \n\nThe Pain Café offers a friendly\, informal space to connect with others\, share experiences\, and discover new ways to manage pain.\n Please come and join us at your local Pain Café at The Old Cattle Market on the 3rd Tuesday of the month\, 1–3pm.\nIt’s a welcoming space to talk\, learn\, and support each other – you don’t have to manage chronic pain alone. \n\nFind out more: https://pain.cafe/
URL:https://discoverhelston.co.uk/event/pain-cafe/2025-10-21/
LOCATION:The Old Cattle Market\, Porthleven Rd\, Helston\, TR13 0SR
CATEGORIES:Community,Wellbeing
ATTACH;FMTTYPE=image/jpeg:https://discoverhelston.co.uk/wp-content/uploads/2025/10/557603980_122184549218332307_6308916899991798178_n.jpg
END:VEVENT
END:VCALENDAR