BEGIN:VCALENDAR
VERSION:2.0
PRODID:-//Discover Helston - ECPv6.15.14//NONSGML v1.0//EN
CALSCALE:GREGORIAN
METHOD:PUBLISH
X-ORIGINAL-URL:https://discoverhelston.co.uk
X-WR-CALDESC:Events for Discover Helston
REFRESH-INTERVAL;VALUE=DURATION:PT1H
X-Robots-Tag:noindex
X-PUBLISHED-TTL:PT1H
BEGIN:VTIMEZONE
TZID:Europe/London
BEGIN:DAYLIGHT
TZOFFSETFROM:+0000
TZOFFSETTO:+0100
TZNAME:BST
DTSTART:20240331T010000
END:DAYLIGHT
BEGIN:STANDARD
TZOFFSETFROM:+0100
TZOFFSETTO:+0000
TZNAME:GMT
DTSTART:20241027T010000
END:STANDARD
BEGIN:DAYLIGHT
TZOFFSETFROM:+0000
TZOFFSETTO:+0100
TZNAME:BST
DTSTART:20250330T010000
END:DAYLIGHT
BEGIN:STANDARD
TZOFFSETFROM:+0100
TZOFFSETTO:+0000
TZNAME:GMT
DTSTART:20251026T010000
END:STANDARD
BEGIN:DAYLIGHT
TZOFFSETFROM:+0000
TZOFFSETTO:+0100
TZNAME:BST
DTSTART:20260329T010000
END:DAYLIGHT
BEGIN:STANDARD
TZOFFSETFROM:+0100
TZOFFSETTO:+0000
TZNAME:GMT
DTSTART:20261025T010000
END:STANDARD
END:VTIMEZONE
BEGIN:VEVENT
DTSTART;TZID=Europe/London:20251020T190000
DTEND;TZID=Europe/London:20251020T223000
DTSTAMP:20260425T161745
CREATED:20251015T211205Z
LAST-MODIFIED:20251015T211205Z
UID:10009438-1760986800-1760999400@discoverhelston.co.uk
SUMMARY:RUNt
DESCRIPTION:Pipeline Theatre brings you a no-holds-barred exposé of life in a Year 9 classroom\, as faced by an Early Careers Teacher trying to cope with the lost and lonely girl who latches on to her. In a first for Pipeline’s touring theatre shows\, eleven talented young people from all corners of Cornwall have been cast alongside professional actors\, to reveal the comedy\, the madness and the heart-break of life in a rural secondary school in 2025. \nAge guide 14+ (repeated use of bad language.)  covers issues relating to loss and bereavement in a student context
URL:https://discoverhelston.co.uk/event/runt/
LOCATION:Helston Community College\, Church Hill\, Helston\, TR13 8NR\, United Kingdom
CATEGORIES:Teen,Theatre
ATTACH;FMTTYPE=image/jpeg:https://discoverhelston.co.uk/wp-content/uploads/2025/10/untitled-3_orig.jpg
ORGANIZER;CN="Pipeline Theatre":MAILTO:pipelinetheatre@gmail.com
END:VEVENT
END:VCALENDAR