BEGIN:VCALENDAR
VERSION:2.0
PRODID:-//Discover Helston - ECPv6.15.14//NONSGML v1.0//EN
CALSCALE:GREGORIAN
METHOD:PUBLISH
X-ORIGINAL-URL:https://discoverhelston.co.uk
X-WR-CALDESC:Events for Discover Helston
REFRESH-INTERVAL;VALUE=DURATION:PT1H
X-Robots-Tag:noindex
X-PUBLISHED-TTL:PT1H
BEGIN:VTIMEZONE
TZID:Europe/London
BEGIN:DAYLIGHT
TZOFFSETFROM:+0000
TZOFFSETTO:+0100
TZNAME:BST
DTSTART:20240331T010000
END:DAYLIGHT
BEGIN:STANDARD
TZOFFSETFROM:+0100
TZOFFSETTO:+0000
TZNAME:GMT
DTSTART:20241027T010000
END:STANDARD
BEGIN:DAYLIGHT
TZOFFSETFROM:+0000
TZOFFSETTO:+0100
TZNAME:BST
DTSTART:20250330T010000
END:DAYLIGHT
BEGIN:STANDARD
TZOFFSETFROM:+0100
TZOFFSETTO:+0000
TZNAME:GMT
DTSTART:20251026T010000
END:STANDARD
BEGIN:DAYLIGHT
TZOFFSETFROM:+0000
TZOFFSETTO:+0100
TZNAME:BST
DTSTART:20260329T010000
END:DAYLIGHT
BEGIN:STANDARD
TZOFFSETFROM:+0100
TZOFFSETTO:+0000
TZNAME:GMT
DTSTART:20261025T010000
END:STANDARD
BEGIN:DAYLIGHT
TZOFFSETFROM:+0000
TZOFFSETTO:+0100
TZNAME:BST
DTSTART:20270328T010000
END:DAYLIGHT
BEGIN:STANDARD
TZOFFSETFROM:+0100
TZOFFSETTO:+0000
TZNAME:GMT
DTSTART:20271031T010000
END:STANDARD
END:VTIMEZONE
BEGIN:VEVENT
DTSTART;TZID=Europe/London:20260322T100000
DTEND;TZID=Europe/London:20260322T120000
DTSTAMP:20260424T110135
CREATED:20260311T000006Z
LAST-MODIFIED:20260311T000006Z
UID:10014371-1774173600-1774180800@discoverhelston.co.uk
SUMMARY:Signs of Spring Family Walk
DESCRIPTION:Everyone is welcome to join us for a gentle walk from Highburrow taking in the farmland and Loe Pool at Penrose. We will be looking for ‘signs of spring’ along our walk. \nThe walks are led by volunteer walk leaders and offer the opportunity for anybody to spend time in nature and meet new people. Everyone is welcome\, of all abilities and experience\, and the walk leader will facilitate the walk to ensure everybody feels comfortable. \nThe basics:SuitabilityChildren very welcome\, adult supervision required at all times. \nMeeting pointThis walk will start at Highburrow (TR13 9EU or what3words///blockage.polo.coasted)\, meet at the NT welcome board. \nWhat to bring and wearWear clothing suitable for all weather\, ideally layers with waterproofs and comfortable\, sturdy footwear. \nAccessibilityThis route includes uneven ground\, possibly steps and stiles. There are no toilets available on this route. \nOtherDogs welcome on a lead.
URL:https://discoverhelston.co.uk/event/signs-of-spring-family-walk-3/
LOCATION:Highburrow Carpark\, 14 Cooper's Lane\, Porthleven\, Cornwall\, TR13
ATTACH;FMTTYPE=image/jpeg:https://discoverhelston.co.uk/wp-content/uploads/2026/03/636771753_1330107669144327_3779192637203588171_n.jpg
ORGANIZER;CN="Penrose National Trust":MAILTO:lydia.allt@nationaltrust.org.uk
END:VEVENT
BEGIN:VEVENT
DTSTART;TZID=Europe/London:20260120T133000
DTEND;TZID=Europe/London:20260120T153000
DTSTAMP:20260424T110135
CREATED:20260104T232409Z
LAST-MODIFIED:20260104T232409Z
UID:10010317-1768915800-1768923000@discoverhelston.co.uk
SUMMARY:
DESCRIPTION:Everyone is welcome to join us for a gentle walk at Penrose\, as part of our social walk series. This walk starts at Highburrow car park near Porthleven and will take in views across Loe Bar and the surrounding countryside. \nThe walks are led by volunteer walk leaders and offer the opportunity for anybody to spend time in nature and meet new people. Everyone is welcome\, of all abilities and experience\, and the walk leader will facilitate the walk to ensure everybody feels comfortable. \nThe basicsSuitabilityChildren welcome\, adult supervision required at all times. \nMeeting pointThis walk will start at Highburrow car park (TR13 9EU or what3words///blockage.polo.coasted) and will take around 2 hours. There are no toilets available on this walk. \nWhat to bring and wearWear clothing suitable for all weather\, ideally layers with waterproofs and comfortable\, sturdy footwear. \nAccessibilityThis route is not fully accessible & includes uneven ground\, possibly steps & stiles. There are no toilet facilities on this walk. \n 
URL:https://discoverhelston.co.uk/event/15303/
LOCATION:Highburrow Carpark\, 14 Cooper's Lane\, Porthleven\, Cornwall\, TR13
CATEGORIES:Nature,Wellbeing
ATTACH;FMTTYPE=image/jpeg:https://discoverhelston.co.uk/wp-content/uploads/2026/01/600905896_1285989726889455_2025282068176740899_n.jpg
ORGANIZER;CN="Penrose National Trust":MAILTO:lydia.allt@nationaltrust.org.uk
END:VEVENT
BEGIN:VEVENT
DTSTART;TZID=Europe/London:20250824T133000
DTEND;TZID=Europe/London:20250824T153000
DTSTAMP:20260424T110135
CREATED:20250630T150443Z
LAST-MODIFIED:20250630T150445Z
UID:10006845-1756042200-1756049400@discoverhelston.co.uk
SUMMARY:Penrose Family Walks
DESCRIPTION:Everyone is welcome to join us for a gentle walk at Penrose\, as part of our family walk series. \nThe walks are led by volunteer walk leaders and offer the opportunity for anybody to spend time in nature and meet new people. Everyone is welcome\, of all abilities and experience\, and the walk leader will facilitate the walk to ensure everybody feels comfortable.
URL:https://discoverhelston.co.uk/event/penrose-family-walks-4/
LOCATION:Highburrow Carpark\, 14 Cooper's Lane\, Porthleven\, Cornwall\, TR13
CATEGORIES:Community,Free,Kids,Nature,Wellbeing
ATTACH;FMTTYPE=image/png:https://discoverhelston.co.uk/wp-content/uploads/2025/04/Screenshot-2025-04-11-164156.png
ORGANIZER;CN="Penrose National Trust":MAILTO:lydia.allt@nationaltrust.org.uk
END:VEVENT
BEGIN:VEVENT
DTSTART;TZID=Europe/London:20250819T133000
DTEND;TZID=Europe/London:20250819T153000
DTSTAMP:20260424T110135
CREATED:20250630T144700Z
LAST-MODIFIED:20250630T145638Z
UID:10006842-1755610200-1755617400@discoverhelston.co.uk
SUMMARY:Penrose Social Walks
DESCRIPTION:The walks are led by volunteer walk leaders and offer the opportunity for anybody to spend time in nature and meet new people. Everyone is welcome\, of all abilities and experience\, and the walk leader will facilitate the walk to ensure everybody feels comfortable.
URL:https://discoverhelston.co.uk/event/penrose-social-walks-7/
LOCATION:Highburrow Carpark\, 14 Cooper's Lane\, Porthleven\, Cornwall\, TR13
CATEGORIES:Community,Free,Nature,Wellbeing
ATTACH;FMTTYPE=image/png:https://discoverhelston.co.uk/wp-content/uploads/2025/06/Screenshot-2025-04-11-161615.png
ORGANIZER;CN="Penrose National Trust":MAILTO:lydia.allt@nationaltrust.org.uk
END:VEVENT
BEGIN:VEVENT
DTSTART;TZID=Europe/London:20250422T133000
DTEND;TZID=Europe/London:20250422T153000
DTSTAMP:20260424T110135
CREATED:20250411T151929Z
LAST-MODIFIED:20250411T151929Z
UID:10005279-1745328600-1745335800@discoverhelston.co.uk
SUMMARY:Penrose Social Walks
DESCRIPTION:Everyone is welcome to join us for a gentle walk at Penrose\, as part of our social walk series. This walk starts at Highburrow car park near Porthleven and will take in views across Loe Bar and the surrounding countryside. The walk is approximately 3.5 miles long and will take around 2 hours. \nThe walks are led by volunteer walk leaders and offer the opportunity for anybody to spend time in nature and meet new people. Everyone is welcome\, of all abilities and experience\, and the walk leader will facilitate the walk to ensure everybody feels comfortable.
URL:https://discoverhelston.co.uk/event/penrose-social-walks/
LOCATION:Highburrow Carpark\, 14 Cooper's Lane\, Porthleven\, Cornwall\, TR13
CATEGORIES:Community,Free,Nature,Wellbeing
ATTACH;FMTTYPE=image/png:https://discoverhelston.co.uk/wp-content/uploads/2025/04/Screenshot-2025-04-11-161615.png
ORGANIZER;CN="Penrose National Trust":MAILTO:lydia.allt@nationaltrust.org.uk
END:VEVENT
BEGIN:VEVENT
DTSTART;TZID=Europe/London:20250413T100000
DTEND;TZID=Europe/London:20250413T113000
DTSTAMP:20260424T110135
CREATED:20250411T154616Z
LAST-MODIFIED:20250411T154616Z
UID:10005284-1744538400-1744543800@discoverhelston.co.uk
SUMMARY:Penrose Family Walks
DESCRIPTION:Everyone is welcome to join us for a gentle walk at Penrose\, as part of our family walk series. This walk starts at Highburrow car park near Porthleven and will take in views across Loe Bar and the surrounding countryside. The walk is approximately 3 miles long and will take around 1.5 hours. \nThe walks are led by volunteer walk leaders and offer the opportunity for anybody to spend time in nature and meet new people. Everyone is welcome\, of all abilities and experience\, and the walk leader will facilitate the walk to ensure everybody feels comfortable.
URL:https://discoverhelston.co.uk/event/penrose-family-walks-2/
LOCATION:Highburrow Carpark\, 14 Cooper's Lane\, Porthleven\, Cornwall\, TR13
CATEGORIES:Community,Free,Kids,Nature,Wellbeing
ATTACH;FMTTYPE=image/png:https://discoverhelston.co.uk/wp-content/uploads/2025/04/Screenshot-2025-04-11-164156.png
ORGANIZER;CN="Penrose National Trust":MAILTO:lydia.allt@nationaltrust.org.uk
END:VEVENT
END:VCALENDAR